BEGIN:VCALENDAR
VERSION:2.0
PRODID:-//Naturschutzstation Hahneberg - ECPv5.7.0//NONSGML v1.0//EN
CALSCALE:GREGORIAN
METHOD:PUBLISH
X-WR-CALNAME:Naturschutzstation Hahneberg
X-ORIGINAL-URL:https://naturschutzstation-hahneberg.de
X-WR-CALDESC:Events for Naturschutzstation Hahneberg
BEGIN:VTIMEZONE
TZID:Europe/Berlin
BEGIN:DAYLIGHT
TZOFFSETFROM:+0100
TZOFFSETTO:+0200
TZNAME:CEST
DTSTART:20230326T010000
END:DAYLIGHT
BEGIN:STANDARD
TZOFFSETFROM:+0200
TZOFFSETTO:+0100
TZNAME:CET
DTSTART:20231029T010000
END:STANDARD
END:VTIMEZONE
BEGIN:VEVENT
DTSTART;TZID=Europe/Berlin:20230513T150000
DTEND;TZID=Europe/Berlin:20230513T180000
DTSTAMP:20260421T143134
CREATED:20230508T124322Z
LAST-MODIFIED:20230508T124324Z
UID:9328-1683990000-1684000800@naturschutzstation-hahneberg.de
SUMMARY:4. Interkulturelles Nachbarschaftsfest
DESCRIPTION:Unter dem Motto &#8220;TEILGABE (ER)LEBEN!&#8221; steht das diesjähriges 4. Interkulturelles Nachbarschafsfest  in der Ev. Kirchengemeinde Wichern-Radeland\, Wichernstraße 14\, 13587 Berlin.\nTEILGABE bedeutet an der Gesellschaft aktiv teilnehmen und sie aktiv mitgestalten können\, was wir sehr sinnbildlich für die Arbeit des Begleitprogramms und damit auch für das Fest finden: Neben dem Bühnenprogramm\, welches zum Mitmachen und sich inspirieren einlädt\, laufen gleichzeitig Workshops und MitMach-Angebote\, wo man etwas erlernen\, mitgestalten und mitmachen kann. Unser Ziel ist es zu zeigen\, wie wichtig das Mitgestalten und damit selbst etwas (mit)erschaffen ist\, damit man sich als Teil der Gesellschaft fühlt und den &#8220;Gaststatus&#8221; ablegt. U.a. wird es Musik von Ulrike Düregger und Plag&Play geben und MitMach-Angebote wie Salsation\, Bodypercussion und Kinderschminken.\nDie Veranstaltung ist kostenfrei!\nEs ist ein Fest für die ganze Familie !
URL:https://naturschutzstation-hahneberg.de/event/4-interkulturelles-nachbarschaftsfest/
CATEGORIES:Fest,Workshop
ATTACH;FMTTYPE=image/jpeg:https://naturschutzstation-hahneberg.de/wp-content/uploads/2023/05/Fest.jpg
END:VEVENT
END:VCALENDAR