BEGIN:VCALENDAR
VERSION:2.0
PRODID:-//Naturschutzstation Hahneberg - ECPv5.7.0//NONSGML v1.0//EN
CALSCALE:GREGORIAN
METHOD:PUBLISH
X-WR-CALNAME:Naturschutzstation Hahneberg
X-ORIGINAL-URL:https://naturschutzstation-hahneberg.de
X-WR-CALDESC:Events for Naturschutzstation Hahneberg
BEGIN:VTIMEZONE
TZID:Europe/Berlin
BEGIN:DAYLIGHT
TZOFFSETFROM:+0100
TZOFFSETTO:+0200
TZNAME:CEST
DTSTART:20190331T010000
END:DAYLIGHT
BEGIN:STANDARD
TZOFFSETFROM:+0200
TZOFFSETTO:+0100
TZNAME:CET
DTSTART:20191027T010000
END:STANDARD
END:VTIMEZONE
BEGIN:VEVENT
DTSTART;TZID=Europe/Berlin:20190425T150000
DTEND;TZID=Europe/Berlin:20190425T160000
DTSTAMP:20260425T140328
CREATED:20190404T062714Z
LAST-MODIFIED:20190404T062714Z
UID:6334-1556204400-1556208000@naturschutzstation-hahneberg.de
SUMMARY:Achtsames Gehen
DESCRIPTION:Das Achtsame Gehen ist eine jahrtausendealte Meditationsform aus Asien. Durch das Abstimmen der Schritte mit der Atmung und dem bewussten Kontakt der Füße mit dem Boden können wir uns beim Gehen tief entspannen und das Hier und Jetzt genießen. Durch die Entschleunigung spüren und erleben wir intensiver den Wind\, das Wetter und die uns umgebende Landschaft des Hahnebergs. Der Körper kommt zur Ruhe\, und das Wohlbefinden wird aktiviert.
URL:https://naturschutzstation-hahneberg.de/event/achtsames-gehen-4/
LOCATION:Naturschutzstation Hahneberg\, Heerstr. 549\, Berlin\, 13593\, Deutschland
CATEGORIES:Sonstiges
END:VEVENT
END:VCALENDAR