BEGIN:VCALENDAR
VERSION:2.0
PRODID:-//Naturschutzstation Hahneberg - ECPv5.7.0//NONSGML v1.0//EN
CALSCALE:GREGORIAN
METHOD:PUBLISH
X-WR-CALNAME:Naturschutzstation Hahneberg
X-ORIGINAL-URL:https://naturschutzstation-hahneberg.de
X-WR-CALDESC:Events for Naturschutzstation Hahneberg
BEGIN:VTIMEZONE
TZID:Europe/Berlin
BEGIN:DAYLIGHT
TZOFFSETFROM:+0100
TZOFFSETTO:+0200
TZNAME:CEST
DTSTART:20190331T010000
END:DAYLIGHT
BEGIN:STANDARD
TZOFFSETFROM:+0200
TZOFFSETTO:+0100
TZNAME:CET
DTSTART:20191027T010000
END:STANDARD
END:VTIMEZONE
BEGIN:VEVENT
DTSTART;TZID=Europe/Berlin:20190823T100000
DTEND;TZID=Europe/Berlin:20190823T150000
DTSTAMP:20260419T235252
CREATED:20190226T091912Z
LAST-MODIFIED:20190723T082803Z
UID:6223-1566554400-1566572400@naturschutzstation-hahneberg.de
SUMMARY:Ein "Tag in der Natur"
DESCRIPTION:Ein „Tag in der Natur“  \nEntdecken Sie an diesem Tag gemeinsam mit unseren Experten die Tier- und Pflanzenwelt am Hahneberg im Rahmen von Kurzexkursionen und kleinen Vorträgen und lernen Sie auch unsere neu gestaltete Naturschutzstation kennen.  \nProgramm \n10:00 – 10:05 Begrüßung \n10:05 – 10:20 Vorstellung der Naturschutzstation und der Beweidungsprojekte \n10:20 – 10:35 Vorstellung der Umgebung Hahneberg \n10:35 – 11:10 Kurzvorstellung der Artengruppen Tagfalter\, Käfer\, Reptilien und Amphibien\, Vögel\, Spinnen\, Honigbienen sowie Flora \n11:10 – 11:45 Mittagspause \n11:45 – 11:50 Aufteilung zu Exkursionen mit den entsprechenden Experten \nTagfalter/Käfer/Reptilien+Amphibien/Vögel/Spinnen/Honigbienen/Wildkräuter/Schafe und Ziegen/Ökosystem Hahneberg \n11:50 – 12:50 Exkursion zu gewähltem Thema \n12:50 – 13:30 Berichte aus den Gruppen \n13:30 – 14:00 Naturgarten und Märchenpfad \n14:00 – 14:15 Vorstellung der Kooperationen \n14:15 – 14:30 Diskussionsrunde \nab 14:30 nettes Beisammensein im Garten
URL:https://naturschutzstation-hahneberg.de/event/ein-tag-in-der-natur/
LOCATION:Naturschutzstation Hahneberg\, Heerstr. 549\, Berlin\, 13593\, Deutschland
CATEGORIES:Fest,Führung,Vortrag
ATTACH;FMTTYPE=image/jpeg:https://naturschutzstation-hahneberg.de/wp-content/uploads/2017/01/bild_lpv.jpg
ORGANIZER;CN="Naturschutzstation%20Hahneberg":MAILTO:mail@naturschutzstation-hahneberg.de
END:VEVENT
END:VCALENDAR