BEGIN:VCALENDAR
VERSION:2.0
PRODID:-//Naturschutzstation Hahneberg - ECPv5.7.0//NONSGML v1.0//EN
CALSCALE:GREGORIAN
METHOD:PUBLISH
X-WR-CALNAME:Naturschutzstation Hahneberg
X-ORIGINAL-URL:https://naturschutzstation-hahneberg.de
X-WR-CALDESC:Events for Naturschutzstation Hahneberg
BEGIN:VTIMEZONE
TZID:Europe/Berlin
BEGIN:DAYLIGHT
TZOFFSETFROM:+0100
TZOFFSETTO:+0200
TZNAME:CEST
DTSTART:20250330T010000
END:DAYLIGHT
BEGIN:STANDARD
TZOFFSETFROM:+0200
TZOFFSETTO:+0100
TZNAME:CET
DTSTART:20251026T010000
END:STANDARD
END:VTIMEZONE
BEGIN:VEVENT
DTSTART;TZID=Europe/Berlin:20250827T100000
DTEND;TZID=Europe/Berlin:20250827T140000
DTSTAMP:20260419T191656
CREATED:20250708T110335Z
LAST-MODIFIED:20250709T065459Z
UID:10820-1756288800-1756303200@naturschutzstation-hahneberg.de
SUMMARY:Ferienprogramm mit den Stadtnaturrangern
DESCRIPTION:In diesem Workshop machen wir uns auf die Suche nach Schmetterlingen\, Käfern\, Spinnen und vielen weiteren Krabblern. Mit Becherlupen\, Keschern und Binokular erkunden und entdeckt wir gemeinsam die Tiere\, die uns vielfältig umgeben\, aber oft unentdeckt bleiben.\n\n\nTeilnahmebedingungen:\nbis 15 Teilnehmende im Alter von 8-11 Jahren.\nDie Teilnahme ist kostenfrei\, über eine Spende freuen wir uns aber sehr!\n\nDie Plätze sind begrenzt\, daher meldet Euch schnell an unter 030 / 26 300 787 oder per mail@naturschutzstation-hahneberg.de\n\nBitte achtet auf wettertaugliche Kleidung und ausreichend Sonnenschutz.\n\nWir freuen uns auf Euch!
URL:https://naturschutzstation-hahneberg.de/event/ferienprogramm-mit-den-stadtnaturrangern/
LOCATION:Naturschutzstation Hahneberg\, Heerstr. 549\, Berlin\, 13593\, Deutschland
CATEGORIES:Naturpäd. Programm,Workshop
ATTACH;FMTTYPE=image/jpeg:https://naturschutzstation-hahneberg.de/wp-content/uploads/2025/01/pixabay-Hirschkaefer.jpg
END:VEVENT
END:VCALENDAR