BEGIN:VCALENDAR
VERSION:2.0
PRODID:-//Naturschutzstation Hahneberg - ECPv5.7.0//NONSGML v1.0//EN
CALSCALE:GREGORIAN
METHOD:PUBLISH
X-WR-CALNAME:Naturschutzstation Hahneberg
X-ORIGINAL-URL:https://naturschutzstation-hahneberg.de
X-WR-CALDESC:Events for Naturschutzstation Hahneberg
BEGIN:VTIMEZONE
TZID:Europe/Berlin
BEGIN:DAYLIGHT
TZOFFSETFROM:+0100
TZOFFSETTO:+0200
TZNAME:CEST
DTSTART:20250330T010000
END:DAYLIGHT
BEGIN:STANDARD
TZOFFSETFROM:+0200
TZOFFSETTO:+0100
TZNAME:CET
DTSTART:20251026T010000
END:STANDARD
END:VTIMEZONE
BEGIN:VEVENT
DTSTART;TZID=Europe/Berlin:20251012T123000
DTEND;TZID=Europe/Berlin:20251012T153000
DTSTAMP:20260420T065355
CREATED:20251008T151604Z
LAST-MODIFIED:20251008T151604Z
UID:10947-1760272200-1760283000@naturschutzstation-hahneberg.de
SUMMARY:Fermentier-Workshop
DESCRIPTION:Workshop: Fermentieren von milchsaurem GemÃ¼se mit Heilpraktikerin Hannelore Bayer â€“ Rutzel \nGemÃ¼se und GetrÃ¤nke auf schonende Art zu fermentieren\, bzw. ohne Hitze und Strom zu konservieren ist eine alte Tradition\, die heute wieder mehr an Bedeutung gewinnt. Rohes GemÃ¼se steigert durch VergÃ¤rung seine Vitamine\, ist leichter verdaulich\, saniert den Darm und fÃ¶rdert die Gesundheit. \nIm Workshop wird erklÃ¤rt und gezeigt\, wie unsere GemÃ¼seernte fÃ¼r den Winter haltbar gemacht werden kann. \nAnmeldung unter: 030-26300 787 oder mobil 0175-1178 352 // mail@naturschutzstation-hahneberg.de \nKostenbeitrag 5\,-â‚¬ fÃ¼r Material\, sowie gerne eine Spende fÃ¼r die Teilnahme \nMitbringen: kleines KÃ¼chenmesser\, (grÃ¶ÃŸere GlÃ¤ser kÃ¶nnen auch mitgebracht werden\, es gibt aber auch Welche vor Ort) \n 
URL:https://naturschutzstation-hahneberg.de/event/fermentier-workshop/
LOCATION:Naturschutzstation Hahneberg\, Heerstr. 549\, Berlin\, 13593\, Deutschland
ATTACH;FMTTYPE=image/jpeg:https://naturschutzstation-hahneberg.de/wp-content/uploads/2025/10/fermentieren-scaled.jpg
ORGANIZER;CN="Naturschutzstation%20Hahneberg":MAILTO:mail@naturschutzstation-hahneberg.de
END:VEVENT
END:VCALENDAR