BEGIN:VCALENDAR
VERSION:2.0
PRODID:-//Naturschutzstation Hahneberg - ECPv5.7.0//NONSGML v1.0//EN
CALSCALE:GREGORIAN
METHOD:PUBLISH
X-WR-CALNAME:Naturschutzstation Hahneberg
X-ORIGINAL-URL:https://naturschutzstation-hahneberg.de
X-WR-CALDESC:Events for Naturschutzstation Hahneberg
BEGIN:VTIMEZONE
TZID:Europe/Berlin
BEGIN:DAYLIGHT
TZOFFSETFROM:+0100
TZOFFSETTO:+0200
TZNAME:CEST
DTSTART:20190331T010000
END:DAYLIGHT
BEGIN:STANDARD
TZOFFSETFROM:+0200
TZOFFSETTO:+0100
TZNAME:CET
DTSTART:20191027T010000
END:STANDARD
END:VTIMEZONE
BEGIN:VEVENT
DTSTART;TZID=Europe/Berlin:20190524T000000
DTEND;TZID=Europe/Berlin:20190524T000000
DTSTAMP:20260419T210542
CREATED:20190414T132007Z
LAST-MODIFIED:20190414T132007Z
UID:6353-1558656000-1558656000@naturschutzstation-hahneberg.de
SUMMARY:Fotopirsch am Hahneberg mit Schulklasse
DESCRIPTION:
URL:https://naturschutzstation-hahneberg.de/event/fotopirsch-am-hahneberg-mit-schulklasse-3/
LOCATION:Naturschutzstation Hahneberg\, Heerstr. 549\, Berlin\, 13593\, Deutschland
CATEGORIES:Sonstiges
END:VEVENT
END:VCALENDAR