BEGIN:VCALENDAR
VERSION:2.0
PRODID:-//Naturschutzstation Hahneberg - ECPv5.7.0//NONSGML v1.0//EN
CALSCALE:GREGORIAN
METHOD:PUBLISH
X-WR-CALNAME:Naturschutzstation Hahneberg
X-ORIGINAL-URL:https://naturschutzstation-hahneberg.de
X-WR-CALDESC:Events for Naturschutzstation Hahneberg
BEGIN:VTIMEZONE
TZID:Europe/Berlin
BEGIN:DAYLIGHT
TZOFFSETFROM:+0100
TZOFFSETTO:+0200
TZNAME:CEST
DTSTART:20190331T010000
END:DAYLIGHT
BEGIN:STANDARD
TZOFFSETFROM:+0200
TZOFFSETTO:+0100
TZNAME:CET
DTSTART:20191027T010000
END:STANDARD
END:VTIMEZONE
BEGIN:VEVENT
DTSTART;TZID=Europe/Berlin:20190729T180000
DTEND;TZID=Europe/Berlin:20190729T193000
DTSTAMP:20260419T174642
CREATED:20190304T112310Z
LAST-MODIFIED:20190505T220208Z
UID:6248-1564423200-1564428600@naturschutzstation-hahneberg.de
SUMMARY:Fotospaziergang
DESCRIPTION:Schärfen Sie Ihren Blick für die Schönheit der Natur und gehen Sie gemeinsam mit Frau Masche (Geoökologin und Naturpädagogin) auf Entdeckungsreise am Hahneberg\, der Schwerpunkt liegt auf der Naturerfahrung\, kein Fotokurs\, bitte Fotokamera und wettergerechte Kleidung mitbringen. \nGerne mit Voranmeldung bei der Naturschutzstation\, Sie können aber auch ohne vorherige Anmeldung teilnehmen.  \nFoto © Frau Masche
URL:https://naturschutzstation-hahneberg.de/event/fotospaziergang-5/
LOCATION:Naturschutzstation Hahneberg\, Heerstr. 549\, Berlin\, 13593\, Deutschland
CATEGORIES:Spaziergang
ATTACH;FMTTYPE=image/jpeg:https://naturschutzstation-hahneberg.de/wp-content/uploads/2018/10/2.jpg
ORGANIZER;CN="Naturschutzstation%20Hahneberg":MAILTO:mail@naturschutzstation-hahneberg.de
END:VEVENT
END:VCALENDAR