BEGIN:VCALENDAR
VERSION:2.0
PRODID:-//Naturschutzstation Hahneberg - ECPv5.7.0//NONSGML v1.0//EN
CALSCALE:GREGORIAN
METHOD:PUBLISH
X-WR-CALNAME:Naturschutzstation Hahneberg
X-ORIGINAL-URL:https://naturschutzstation-hahneberg.de
X-WR-CALDESC:Events for Naturschutzstation Hahneberg
BEGIN:VTIMEZONE
TZID:Europe/Berlin
BEGIN:DAYLIGHT
TZOFFSETFROM:+0100
TZOFFSETTO:+0200
TZNAME:CEST
DTSTART:20190331T010000
END:DAYLIGHT
BEGIN:STANDARD
TZOFFSETFROM:+0200
TZOFFSETTO:+0100
TZNAME:CET
DTSTART:20191027T010000
END:STANDARD
END:VTIMEZONE
BEGIN:VEVENT
DTSTART;TZID=Europe/Berlin:20190913T170000
DTEND;TZID=Europe/Berlin:20190913T180000
DTSTAMP:20260421T215259
CREATED:20190607T140239Z
LAST-MODIFIED:20190903T135111Z
UID:6526-1568394000-1568397600@naturschutzstation-hahneberg.de
SUMMARY:öffentliche Märchenwanderung
DESCRIPTION:Märchenwanderung für Groß und Klein: Spaziergang mit unserem Märchenerzähler Grannus von der Naturschutzstation durch die Landschaft bis zum Märchenpfad \nTauchen Sie mit ihn ein in die Welt der Fabelwesen. Treffpunkt ist die Naturschutzstation\, gerne mit Voranmeldung\, aber auch spontane Teilnahme möglich\, bitte kommen Sie mit wetterfester Kleidung.
URL:https://naturschutzstation-hahneberg.de/event/oeffentliche-maerchenwanderung-2/
LOCATION:Naturschutzstation Hahneberg\, Heerstr. 549\, Berlin\, 13593\, Deutschland
CATEGORIES:Spaziergang,Vorführung
ORGANIZER;CN="Naturschutzstation%20Hahneberg":MAILTO:mail@naturschutzstation-hahneberg.de
END:VEVENT
END:VCALENDAR