BEGIN:VCALENDAR
VERSION:2.0
PRODID:-//Naturschutzstation Hahneberg - ECPv5.7.0//NONSGML v1.0//EN
CALSCALE:GREGORIAN
METHOD:PUBLISH
X-WR-CALNAME:Naturschutzstation Hahneberg
X-ORIGINAL-URL:https://naturschutzstation-hahneberg.de
X-WR-CALDESC:Events for Naturschutzstation Hahneberg
BEGIN:VTIMEZONE
TZID:Europe/Berlin
BEGIN:DAYLIGHT
TZOFFSETFROM:+0100
TZOFFSETTO:+0200
TZNAME:CEST
DTSTART:20250330T010000
END:DAYLIGHT
BEGIN:STANDARD
TZOFFSETFROM:+0200
TZOFFSETTO:+0100
TZNAME:CET
DTSTART:20251026T010000
END:STANDARD
END:VTIMEZONE
BEGIN:VEVENT
DTSTART;TZID=Europe/Berlin:20250816T183000
DTEND;TZID=Europe/Berlin:20250816T200000
DTSTAMP:20260421T130434
CREATED:20250708T082050Z
LAST-MODIFIED:20250715T115318Z
UID:10816-1755369000-1755374400@naturschutzstation-hahneberg.de
SUMMARY:Outdoorkonzert im Schafstall
DESCRIPTION:Seit zehn Jahren ist die Naturschutzstation Hahneberg ein Ort fÃ¼r Natur\, Begegnung und Bildung. Erleben Sie daher auch in diesem JubilÃ¤umsjahr der Naturschutzstation wieder unsere Konzertreihe: drei besondere Nachmittage und Abende mit Live-Musik\, Naturidylle und gemeinsamem ZuhÃ¶ren.Â  \nDas ist die perfekte Chance\, einen Sommertag inmitten der SchÃ¶nheit der Natur und bei schÃ¶ner Musik zu verbringen. Kinder sind herzlich willkommen. Wir laden euch ein\, eure eigenen Snacks und GetrÃ¤nke wÃ¤hrend des Konzerts zu genieÃŸen.\nWir freuen uns auf musikalische Abende mit euch am Hahneberg.\nDiese Mal erwarten uns vielfÃ¤ltige KlÃ¤nge aus der rythmischen Musikwelt Brasiliens \nMehr Infos auch unter https://www.groupmuse.com/events/14264-outdoor-konzert-in-der-naturschutzstation-hahneberg. \nKosten: Eine empfohlene Spende von 15â‚¬ wird gesammelt\, die direkt an die Musiker*innen geht\, aber alle sind trotzdem solidarisch eingeladen. \nEigene GetrÃ¤nke & Snacks dÃ¼rfen mitgebracht werden! (Es gibt keine Verpflegung vor Ort) \nVeranstaltungsort: Schafstall an der Naturschutzstation Hahneberg\, HeerstraÃŸe 549\,13593 Berlin \n 
URL:https://naturschutzstation-hahneberg.de/event/outdoorkonzert-im-schafstall/
LOCATION:Naturschutzstation Hahneberg\, Heerstr. 549\, Berlin\, 13593\, Deutschland
CATEGORIES:Sonstiges
ATTACH;FMTTYPE=image/jpeg:https://naturschutzstation-hahneberg.de/wp-content/uploads/2025/07/Trommeln.jpg
ORGANIZER;CN="Naturschutzstation%20Hahneberg":MAILTO:mail@naturschutzstation-hahneberg.de
END:VEVENT
END:VCALENDAR