BEGIN:VCALENDAR
VERSION:2.0
PRODID:-//Naturschutzstation Hahneberg - ECPv5.7.0//NONSGML v1.0//EN
CALSCALE:GREGORIAN
METHOD:PUBLISH
X-WR-CALNAME:Naturschutzstation Hahneberg
X-ORIGINAL-URL:https://naturschutzstation-hahneberg.de
X-WR-CALDESC:Events for Naturschutzstation Hahneberg
BEGIN:VTIMEZONE
TZID:Europe/Berlin
BEGIN:DAYLIGHT
TZOFFSETFROM:+0100
TZOFFSETTO:+0200
TZNAME:CEST
DTSTART:20200329T010000
END:DAYLIGHT
BEGIN:STANDARD
TZOFFSETFROM:+0200
TZOFFSETTO:+0100
TZNAME:CET
DTSTART:20201025T010000
END:STANDARD
END:VTIMEZONE
BEGIN:VEVENT
DTSTART;TZID=Europe/Berlin:20200606T100000
DTEND;TZID=Europe/Berlin:20200606T120000
DTSTAMP:20260420T115539
CREATED:20200311T193106Z
LAST-MODIFIED:20200526T075532Z
UID:6882-1591437600-1591444800@naturschutzstation-hahneberg.de
SUMMARY:Pflanzenkundliche Führung
DESCRIPTION:Entdecken Sie in einer zweistündigen Wanderung durch die abwechslungsreiche Flora des Geländes rund um den Hahneberg botanische Raritäten und küchentaugliches Wildobst- oder gemüse. \nSchwerpunkt: Essbare Pflanzen \nTreffpunkt: Naturschutzstation Hahneberg (Kleidung bitte an Wetter anpassen) \nDie Teilnehmerzahl ist begrenzt. Wir bitten um Anmeldung per E-Mail an mail@naturschutzstation-hahneberg.de oder telefonisch unter 030/26300787. \nDie Veranstaltung ist kostenfrei\, über eine kleine Spende freuen wir uns aber sehr!
URL:https://naturschutzstation-hahneberg.de/event/pflanzenkundliche-fuehrung-6/
LOCATION:Naturschutzstation Hahneberg\, Heerstr. 549\, Berlin\, 13593\, Deutschland
CATEGORIES:Führung
ATTACH;FMTTYPE=image/jpeg:https://naturschutzstation-hahneberg.de/wp-content/uploads/2020/05/Knoblauchsrauke.jpg
ORGANIZER;CN="Naturschutzstation%20Hahneberg":MAILTO:mail@naturschutzstation-hahneberg.de
END:VEVENT
END:VCALENDAR