BEGIN:VCALENDAR
VERSION:2.0
PRODID:-//Naturschutzstation Hahneberg - ECPv5.7.0//NONSGML v1.0//EN
CALSCALE:GREGORIAN
METHOD:PUBLISH
X-WR-CALNAME:Naturschutzstation Hahneberg
X-ORIGINAL-URL:https://naturschutzstation-hahneberg.de
X-WR-CALDESC:Events for Naturschutzstation Hahneberg
BEGIN:VTIMEZONE
TZID:Europe/Berlin
BEGIN:DAYLIGHT
TZOFFSETFROM:+0100
TZOFFSETTO:+0200
TZNAME:CEST
DTSTART:20210328T010000
END:DAYLIGHT
BEGIN:STANDARD
TZOFFSETFROM:+0200
TZOFFSETTO:+0100
TZNAME:CET
DTSTART:20211031T010000
END:STANDARD
END:VTIMEZONE
BEGIN:VEVENT
DTSTART;TZID=Europe/Berlin:20211120T140000
DTEND;TZID=Europe/Berlin:20211120T170000
DTSTAMP:20260423T194925
CREATED:20210925T130145Z
LAST-MODIFIED:20211116T080259Z
UID:8419-1637416800-1637427600@naturschutzstation-hahneberg.de
SUMMARY:Rabenwanderung
DESCRIPTION:+++ Hinweis: Die Veranstaltung findet unter 2G Bedingungen statt. Bitte bringen Sie den entsprechenden Nachweis mit +++\nStatt der Abendwanderungen am Donnerstag gibt es im Winter nachmittägliche Wanderungen am Samstag. Die Länge der Wanderung beträgt ca. 10 Kilometer. \nDas Prinzip bleibt das Gleiche: Für etwa 3 Stunden gemeinsam wandern/spazieren in der Natur von Berlin-Spandau. Ganz entspannt gemeinsam die empfohlenen 10.000 Schritte am Tag erreichen und ganz nebenbei etwas zu einem Naturthema erfahren. \nThema im Oktober sind besonders intelligente Vögel &#8211; die Raben. \nWir bitten um wetterfeste Kleidung und festes\, bequemes Schuhwerk. \nReferentin: Dr. Mireille Staschok \nDie Anmeldung erfolgt über die Volkshochschule Spandau (Kursnummer Sp1.401-H).\nEs wird eine Kursgebühr erhoben:\nEntgelt: 10\,40 Euro\nErmäßigt: 5\,20 Euro
URL:https://naturschutzstation-hahneberg.de/event/rabenwanderung/
LOCATION:Naturschutzstation Hahneberg\, Heerstr. 549\, Berlin\, 13593\, Deutschland
CATEGORIES:Führung,Spaziergang,Wanderung
ATTACH;FMTTYPE=image/jpeg:https://naturschutzstation-hahneberg.de/wp-content/uploads/2019/03/IMG_4556s2774.jpg
END:VEVENT
END:VCALENDAR