BEGIN:VCALENDAR
VERSION:2.0
PRODID:-//Naturschutzstation Hahneberg - ECPv5.7.0//NONSGML v1.0//EN
CALSCALE:GREGORIAN
METHOD:PUBLISH
X-WR-CALNAME:Naturschutzstation Hahneberg
X-ORIGINAL-URL:https://naturschutzstation-hahneberg.de
X-WR-CALDESC:Events for Naturschutzstation Hahneberg
BEGIN:VTIMEZONE
TZID:Europe/Berlin
BEGIN:DAYLIGHT
TZOFFSETFROM:+0100
TZOFFSETTO:+0200
TZNAME:CEST
DTSTART:20210328T010000
END:DAYLIGHT
BEGIN:STANDARD
TZOFFSETFROM:+0200
TZOFFSETTO:+0100
TZNAME:CET
DTSTART:20211031T010000
END:STANDARD
END:VTIMEZONE
BEGIN:VEVENT
DTSTART;TZID=Europe/Berlin:20210821T100000
DTEND;TZID=Europe/Berlin:20210821T120000
DTSTAMP:20260419T160333
CREATED:20210216T124229Z
LAST-MODIFIED:20210216T124558Z
UID:7990-1629540000-1629547200@naturschutzstation-hahneberg.de
SUMMARY:Spinnentiere am Hahneberg
DESCRIPTION:Entdecken Sie gemeinsam mit dem Spinnenexperten Jonathan Neumann die artenreiche Welt der Spinnen in den Schutzgebieten des Hahnebergs und erfahren Sie viele spannende Details.  \nDie Teilnehmerzahl ist begrenzt. Anmeldung bis zwei Werktage vor der Führung erforderlich unter mail@naturschutzstation-hahneberg.de oder unter 030/263 007 87. Die Führung ist kostenlos\, über eine Spende freuen wir uns aber sehr! Wir bitten um wettertaugliche Kleidung und behalten uns coronabedingte Änderungen vor.
URL:https://naturschutzstation-hahneberg.de/event/spinnentiere-am-hahneberg/
LOCATION:Naturschutzstation Hahneberg\, Heerstr. 549\, Berlin\, 13593\, Deutschland
CATEGORIES:Führung
ATTACH;FMTTYPE=image/jpeg:https://naturschutzstation-hahneberg.de/wp-content/uploads/2020/03/VIII.jpg
ORGANIZER;CN="Naturschutzstation%20Hahneberg":MAILTO:mail@naturschutzstation-hahneberg.de
END:VEVENT
END:VCALENDAR