BEGIN:VCALENDAR
VERSION:2.0
PRODID:-//Naturschutzstation Hahneberg - ECPv5.7.0//NONSGML v1.0//EN
CALSCALE:GREGORIAN
METHOD:PUBLISH
X-WR-CALNAME:Naturschutzstation Hahneberg
X-ORIGINAL-URL:https://naturschutzstation-hahneberg.de
X-WR-CALDESC:Events for Naturschutzstation Hahneberg
BEGIN:VTIMEZONE
TZID:Europe/Berlin
BEGIN:DAYLIGHT
TZOFFSETFROM:+0100
TZOFFSETTO:+0200
TZNAME:CEST
DTSTART:20250330T010000
END:DAYLIGHT
BEGIN:STANDARD
TZOFFSETFROM:+0200
TZOFFSETTO:+0100
TZNAME:CET
DTSTART:20251026T010000
END:STANDARD
END:VTIMEZONE
BEGIN:VEVENT
DTSTART;TZID=Europe/Berlin:20250727T140000
DTEND;TZID=Europe/Berlin:20250727T170000
DTSTAMP:20260421T155754
CREATED:20250514T072140Z
LAST-MODIFIED:20250603T120922Z
UID:10735-1753624800-1753635600@naturschutzstation-hahneberg.de
SUMMARY:WildkrÃ¤uter zum Naschen
DESCRIPTION:KrÃ¤uterrezepte togo &#8211; fÃ¼r die ganze Familie\nIm Sommer durch die Wiese und durch den Garten streifen und dabei entdecken wir eine Vielfalt an KrÃ¤utern. Womit werden ZÃ¤hne wieder weiÃŸ\, welches Kraut heilt kleine Wunden\, was schmeckt sÃ¼ÃŸ wie Lakritz?\nWarum brennt die Brennnessel? FÃ¼r die eigene WiesenkÃ¼che sammeln und verarbeiten wir WildkrÃ¤uter und erfahren\, wie sie sich in schmackhafte Snacks wie grÃ¼ne Katzenzungen\, Brennnesselcrossies oder KrÃ¤uterlimo verarbeitenlassen.\nMit KrÃ¤uterrezepten togo. \n  \nLeitung: Regina HÃ¶fele (WildkrÃ¤uterpÃ¤dagogin) \nDie Anmeldung erfolgt unter Angabe der Kursnummer Sp1.414-S Ã¼ber die Volkshochschule Spandau. \nTel.: 90279 5000 Fax.: 90279 5001 E-Mail: info@vhs-spandau.de\, http://www.vhs-spandau.de \nKosten:7\,60â‚¬\, erm.: 3\,80â‚¬ \nMaterialkosten: 3â‚¬ \n  \nTreffpunkt: Naturschutzstation Hahneberg\, Heerstr. 549\,13593 Berlin. Bus (M37\, X49/M49)\, die Haltestelle Hahneberg liegt fast direkt vor der TÃ¼r. \nhttps://www.vhsit.berlin.de/VHSKURSE/BusinessPages/CourseDetail.aspx?id=740252 \n 
URL:https://naturschutzstation-hahneberg.de/event/wildkraeuter-zum-naschen/
LOCATION:Naturschutzstation Hahneberg\, Heerstr. 549\, Berlin\, 13593\, Deutschland
CATEGORIES:FÃ¼hrung
ATTACH;FMTTYPE=image/jpeg:https://naturschutzstation-hahneberg.de/wp-content/uploads/2025/01/Brennessel.jpg
END:VEVENT
END:VCALENDAR