BEGIN:VCALENDAR
VERSION:2.0
PRODID:-//Naturschutzstation Hahneberg - ECPv5.7.0//NONSGML v1.0//EN
CALSCALE:GREGORIAN
METHOD:PUBLISH
X-WR-CALNAME:Naturschutzstation Hahneberg
X-ORIGINAL-URL:https://naturschutzstation-hahneberg.de
X-WR-CALDESC:Events for Naturschutzstation Hahneberg
BEGIN:VTIMEZONE
TZID:Europe/Berlin
BEGIN:DAYLIGHT
TZOFFSETFROM:+0100
TZOFFSETTO:+0200
TZNAME:CEST
DTSTART:20190331T010000
END:DAYLIGHT
BEGIN:STANDARD
TZOFFSETFROM:+0200
TZOFFSETTO:+0100
TZNAME:CET
DTSTART:20191027T010000
END:STANDARD
END:VTIMEZONE
BEGIN:VEVENT
DTSTART;TZID=Europe/Berlin:20190807T163000
DTEND;TZID=Europe/Berlin:20190807T174500
DTSTAMP:20260421T155225
CREATED:20190308T063959Z
LAST-MODIFIED:20190607T142356Z
UID:6272-1565195400-1565199900@naturschutzstation-hahneberg.de
SUMMARY:Yoga
DESCRIPTION:Yoga heilt\, Yoga stÃ¤rkt\, Yoga verzaubert! \nErleben Sie Entspannung in Bewegung. Entwickeln Sie Kraft und FlexibilitÃ¤t. Es sind keinerlei Vorkenntnisse erforderlich. \n4 Termine im August 2019\, jeden Mittwoch von 16:30-17:45 Uhr \nMitbringen: Yogamatte\, Decke\, Sitzkissen\, bequeme Kleidung \nKosten: 48\,00â‚¬ im Voraus bei Bettina Flint \nAnmeldung: Bettina Flint\, Tel.:0178 2363 496\, bettinaflint@raum-fuer-yoga-und-meditation.de \n 
URL:https://naturschutzstation-hahneberg.de/event/yoga-6/
LOCATION:Naturschutzstation Hahneberg\, Heerstr. 549\, Berlin\, 13593\, Deutschland
CATEGORIES:Kurs
ATTACH;FMTTYPE=image/jpeg:https://naturschutzstation-hahneberg.de/wp-content/uploads/2019/03/Bild-mit-hÃ¤sslichem-MÃ¤nnchen.jpg
ORGANIZER;CN="Naturschutzstation%20Hahneberg":MAILTO:mail@naturschutzstation-hahneberg.de
END:VEVENT
END:VCALENDAR