BEGIN:VCALENDAR
VERSION:2.0
PRODID:-//Naturschutzstation Hahneberg - ECPv5.7.0//NONSGML v1.0//EN
CALSCALE:GREGORIAN
METHOD:PUBLISH
X-WR-CALNAME:Naturschutzstation Hahneberg
X-ORIGINAL-URL:https://naturschutzstation-hahneberg.de
X-WR-CALDESC:Events for Naturschutzstation Hahneberg
BEGIN:VTIMEZONE
TZID:Europe/Berlin
BEGIN:DAYLIGHT
TZOFFSETFROM:+0100
TZOFFSETTO:+0200
TZNAME:CEST
DTSTART:20190331T010000
END:DAYLIGHT
BEGIN:STANDARD
TZOFFSETFROM:+0200
TZOFFSETTO:+0100
TZNAME:CET
DTSTART:20191027T010000
END:STANDARD
END:VTIMEZONE
BEGIN:VEVENT
DTSTART;TZID=Europe/Berlin:20190825T140000
DTEND;TZID=Europe/Berlin:20190825T170000
DTSTAMP:20260423T183316
CREATED:20190801T120430Z
LAST-MODIFIED:20190806T173948Z
UID:6621-1566741600-1566752400@naturschutzstation-hahneberg.de
SUMMARY:Achtsamkeit und Naturtagebuch
DESCRIPTION:Achtsames Beobachten in der Natur – Einführung in das Führen eines Naturtagebuchs\n\n\nIch kann nicht mehr sehen als du\, aber ich habe mich selbst darin geübt\, zu bemerken\, was ich sehe. \n(Sherlock Holmes)\n\n\nIn unserer hektischen Zeit nehmen wir uns oft nicht den Moment\, um unsere Umgebung einmal aufmerksam und bewusst wahrzunehmen. Oft bemerken wir dann gar nicht im Detail\, was uns alles umgibt und wie sich unsere Umwelt im Laufe des Jahres verändert. Die Anfertigung eines Naturtagebuchs bietet uns die Möglichkeit\, einmal langsamer zu werden\, innezuhalten und genau hinzuschauen. Dabei ist es wichtig sich nicht nur durch die Natur zu bewegen\, sondern in der Natur präsent zu sein. – Im Hier und Jetzt.\n\nDie Führung eines Naturtagebuchs ist dabei eine alte Tradition\, die im Laufe der Geschichte praktiziert wurde\, von den alten Griechen bis zu Naturforschern wie Darwin\, Audubon und Muir. Traditionell bestand der Hauptzweck darin\, die eigenen Beobachtungen aufzuzeichnen\, um mehr über die Prinzipien der natürlichen Welt zu erfahren. \n\nIn diesem Workshop verbinden wir diese Tradition mit ausgewählten naturpädagogischen Aktionen & Achtsamkeitsübungen. \n\nBegleite uns dabei und erlebe wie in uns eine tiefere Begeisterung zu unserer Natur wächst und wir Wunder entdecken\, an denen wir ansonsten vorbeigegangen wären. \n\nUm ein Naturtagebuch anzufertigen\, müssen wir keine guten Zeichner sein. Es geht nicht nur darum\, was auf den Seiten entsteht\, sondern vielmehr um die Sammlung von Erfahrungen\, um achtsames Beobachten und um das Eintauchen in die Natur. Also\, schnapp dir ein Notizbuch und deine Lieblingsstifte\, komm vorbei und lass dich überraschen\, was es alles so zu entdecken gibt! \n\nDie Biologin und Naturpädagogin Lucia Kühn (Naturschutzstation Hahneberg) & die Naturpädagogin Luisa Wolf ( www.wildfühlung.de) freuen sich\, dich durch den Workshop begleitet zu dürfen und stehen für Fragen & Anregung zur Verfügung. \n\nBitte melden Sie sich für diesen Naturworkshop bis zum 23.08.2019 per E-Mail unter mail@naturschutzstation-hahneberg.de oder telefonisch unter 030 26300787 an.
URL:https://naturschutzstation-hahneberg.de/event/achtsamkeit-und-naturtagebuch/
LOCATION:Naturschutzstation Hahneberg\, Heerstr. 549\, Berlin\, 13593\, Deutschland
CATEGORIES:Naturpäd. Programm
ORGANIZER;CN="Naturschutzstation%20Hahneberg":MAILTO:mail@naturschutzstation-hahneberg.de
END:VEVENT
END:VCALENDAR