BEGIN:VCALENDAR
VERSION:2.0
PRODID:-//Naturschutzstation Hahneberg - ECPv5.7.0//NONSGML v1.0//EN
CALSCALE:GREGORIAN
METHOD:PUBLISH
X-WR-CALNAME:Naturschutzstation Hahneberg
X-ORIGINAL-URL:https://naturschutzstation-hahneberg.de
X-WR-CALDESC:Events for Naturschutzstation Hahneberg
BEGIN:VTIMEZONE
TZID:Europe/Berlin
BEGIN:DAYLIGHT
TZOFFSETFROM:+0100
TZOFFSETTO:+0200
TZNAME:CEST
DTSTART:20200329T010000
END:DAYLIGHT
BEGIN:STANDARD
TZOFFSETFROM:+0200
TZOFFSETTO:+0100
TZNAME:CET
DTSTART:20201025T010000
END:STANDARD
END:VTIMEZONE
BEGIN:VEVENT
DTSTART;TZID=Europe/Berlin:20200815T100000
DTEND;TZID=Europe/Berlin:20200815T120000
DTSTAMP:20260421T114228
CREATED:20200323T102907Z
LAST-MODIFIED:20200323T102907Z
UID:6936-1597485600-1597492800@naturschutzstation-hahneberg.de
SUMMARY:Pflanzenkundliche Führung
DESCRIPTION:Entdecken Sie in einer zweistündigen Wanderung durch die abwechslungsreiche Flora des Geländes rund um den Hahneberg botanische Raritäten und küchentaugliches Wildobst- oder gemüse. \nSchwerpunkt: Essbare Pflanzen \nTreffpunkt: Naturschutzstation Hahneberg (Kleidung bitte an Wetter anpassen) \nEine Voranmeldung ist nicht erforderlich. \nDie Veranstaltung ist kostenfrei\, über eine kleine Spende freuen wir uns aber sehr!
URL:https://naturschutzstation-hahneberg.de/event/pflanzenkundliche-fuehrung-7/
LOCATION:Naturschutzstation Hahneberg\, Heerstr. 549\, Berlin\, 13593\, Deutschland
CATEGORIES:Führung
ORGANIZER;CN="Naturschutzstation%20Hahneberg":MAILTO:mail@naturschutzstation-hahneberg.de
END:VEVENT
END:VCALENDAR