BEGIN:VCALENDAR
VERSION:2.0
PRODID:-//Naturschutzstation Hahneberg - ECPv5.7.0//NONSGML v1.0//EN
CALSCALE:GREGORIAN
METHOD:PUBLISH
X-WR-CALNAME:Naturschutzstation Hahneberg
X-ORIGINAL-URL:https://naturschutzstation-hahneberg.de
X-WR-CALDESC:Events for Naturschutzstation Hahneberg
BEGIN:VTIMEZONE
TZID:Europe/Berlin
BEGIN:DAYLIGHT
TZOFFSETFROM:+0100
TZOFFSETTO:+0200
TZNAME:CEST
DTSTART:20240331T010000
END:DAYLIGHT
BEGIN:STANDARD
TZOFFSETFROM:+0200
TZOFFSETTO:+0100
TZNAME:CET
DTSTART:20241027T010000
END:STANDARD
END:VTIMEZONE
BEGIN:VEVENT
DTSTART;TZID=Europe/Berlin:20240915T120000
DTEND;TZID=Europe/Berlin:20240915T150000
DTSTAMP:20260420T160456
CREATED:20240902T114327Z
LAST-MODIFIED:20240902T120437Z
UID:10340-1726401600-1726412400@naturschutzstation-hahneberg.de
SUMMARY:Fermentier-Workshop am Hahneberg
DESCRIPTION:GemÃ¼se haltbar machen wie zu GroÃŸmutters Zeiten&#8230; Die uralte Verarbeitungstechnik des Fermentierens zum Haltbarmachen von GemÃ¼se liegt wieder voll im Trend! \nWir laden ein zu einem Fermentier-Workshop an der Naturschutzstation am Hahneberg mit Melina Matzanke. Hierbei erfahrt ihr\, wie man Selbstgeerntetes in EinmachglÃ¤sern haltbar machen kann und dadurch neue Geschmackserlebnisse hat. \nBringt Euer GemÃ¼se &#8211; am besten eignet sich WurzelgemÃ¼se und Kohl &#8211; und wer hat auch EinmachglÃ¤ser mit. \nAlles weitere ist hier vorhanden. \n  \nDie Veranstaltung ist kostenfrei\, Ã¼ber eine Spende freuen wir uns aber sehr! \nDie PlÃ¤tze sind begrenzt\, wir bitten um Anmeldung unter mail@naturschutzstation-hahneberg.de oder telefonisch unter 030 / 26 300 787
URL:https://naturschutzstation-hahneberg.de/event/fermentier-workshop-am-hahneberg/
LOCATION:Naturschutzstation Hahneberg\, Heerstr. 549\, Berlin\, 13593\, Deutschland
CATEGORIES:Workshop
ATTACH;FMTTYPE=image/jpeg:https://naturschutzstation-hahneberg.de/wp-content/uploads/2024/09/Fermentieren.jpg
ORGANIZER;CN="Naturschutzstation%20Hahneberg":MAILTO:mail@naturschutzstation-hahneberg.de
END:VEVENT
END:VCALENDAR