BEGIN:VCALENDAR
VERSION:2.0
PRODID:-//Naturschutzstation Hahneberg - ECPv5.7.0//NONSGML v1.0//EN
CALSCALE:GREGORIAN
METHOD:PUBLISH
X-WR-CALNAME:Naturschutzstation Hahneberg
X-ORIGINAL-URL:https://naturschutzstation-hahneberg.de
X-WR-CALDESC:Events for Naturschutzstation Hahneberg
BEGIN:VTIMEZONE
TZID:Europe/Berlin
BEGIN:DAYLIGHT
TZOFFSETFROM:+0100
TZOFFSETTO:+0200
TZNAME:CEST
DTSTART:20240331T010000
END:DAYLIGHT
BEGIN:STANDARD
TZOFFSETFROM:+0200
TZOFFSETTO:+0100
TZNAME:CET
DTSTART:20241027T010000
END:STANDARD
END:VTIMEZONE
BEGIN:VEVENT
DTSTART;TZID=Europe/Berlin:20240916T160000
DTEND;TZID=Europe/Berlin:20240916T180000
DTSTAMP:20260420T161006
CREATED:20240902T072953Z
LAST-MODIFIED:20240902T083233Z
UID:10336-1726502400-1726509600@naturschutzstation-hahneberg.de
SUMMARY:Afterwork-Pflegeeinsatz: "Neophythen am Hahneberg bekämpfen"
DESCRIPTION:Was geschah wohl im Jahre 1492? Richtig\, Kolumbus erreichte Amerika! \nDoch das Jahr markiert noch etwas anderes: eine entscheidende Wende für unsere heimische Flora und Fauna. Ab diesem Zeitpunkt gelangten zahlreiche Pflanzen und Tieren aus fernen Ländern zu uns. Einige haben sich gut in unser Ökosystem eingefügt\, doch andere breiten sich unkontrolliert aus und verdrängen unsere heimischen Arten &#8211; sie sind invasiv. \nErlebt einen spannenden Nachmittag in der Natur\, lernt Besonderheiten des Naturraums Hahneberg kennen und tragt direkt zur Erhaltung der biologischen Vielfalt bei. \nGemeinsam gehen wir den invasiven Arten an den Kragen &#8211; für eine gesunde und artenreiche Umwelt! \nDozent: André Eden \nDie Veranstaltung ist kostenfrei\, über eine Spende freuen wir uns aber sehr! \nWir bitten um eine Anmeldung unter mail@naturschutzstation-hahneberg.de oder per Telefon über 030 / 26 300 787
URL:https://naturschutzstation-hahneberg.de/event/afterwork-pflegeeinsatz-neophythen-am-hahneberg-bekaempfen/
LOCATION:Naturschutzstation Hahneberg\, Heerstr. 549\, Berlin\, 13593\, Deutschland
CATEGORIES:Workshop
ATTACH;FMTTYPE=image/jpeg:https://naturschutzstation-hahneberg.de/wp-content/uploads/2024/09/Kanadische-Goldrute.jpg
ORGANIZER;CN="Naturschutzstation%20Hahneberg":MAILTO:mail@naturschutzstation-hahneberg.de
END:VEVENT
END:VCALENDAR