BEGIN:VCALENDAR
VERSION:2.0
PRODID:-//Naturschutzstation Hahneberg - ECPv5.7.0//NONSGML v1.0//EN
CALSCALE:GREGORIAN
METHOD:PUBLISH
X-WR-CALNAME:Naturschutzstation Hahneberg
X-ORIGINAL-URL:https://naturschutzstation-hahneberg.de
X-WR-CALDESC:Events for Naturschutzstation Hahneberg
BEGIN:VTIMEZONE
TZID:Europe/Berlin
BEGIN:DAYLIGHT
TZOFFSETFROM:+0100
TZOFFSETTO:+0200
TZNAME:CEST
DTSTART:20240331T010000
END:DAYLIGHT
BEGIN:STANDARD
TZOFFSETFROM:+0200
TZOFFSETTO:+0100
TZNAME:CET
DTSTART:20241027T010000
END:STANDARD
END:VTIMEZONE
BEGIN:VEVENT
DTSTART;TZID=Europe/Berlin:20240918T163000
DTEND;TZID=Europe/Berlin:20240918T183000
DTSTAMP:20260420T160404
CREATED:20240918T064642Z
LAST-MODIFIED:20240918T064805Z
UID:10364-1726677000-1726684200@naturschutzstation-hahneberg.de
SUMMARY:Die Naturentdecker vom Hahneberg
DESCRIPTION:Kommt vorbei und entdeckt die Natur&#8230;
URL:https://naturschutzstation-hahneberg.de/event/die-naturentdecker-vom-hahneberg-2/
LOCATION:Naturschutzstation Hahneberg\, Heerstr. 549\, Berlin\, 13593\, Deutschland
CATEGORIES:Naturpäd. Programm,Workshop
ATTACH;FMTTYPE=image/png:https://naturschutzstation-hahneberg.de/wp-content/uploads/2024/09/Naturentdeckergruppe-Sept-24-.png
ORGANIZER;CN="Naturschutzstation%20Hahneberg":MAILTO:mail@naturschutzstation-hahneberg.de
END:VEVENT
END:VCALENDAR