BEGIN:VCALENDAR
VERSION:2.0
PRODID:-//Naturschutzstation Hahneberg - ECPv5.7.0//NONSGML v1.0//EN
CALSCALE:GREGORIAN
METHOD:PUBLISH
X-WR-CALNAME:Naturschutzstation Hahneberg
X-ORIGINAL-URL:https://naturschutzstation-hahneberg.de
X-WR-CALDESC:Events for Naturschutzstation Hahneberg
BEGIN:VTIMEZONE
TZID:Europe/Berlin
BEGIN:DAYLIGHT
TZOFFSETFROM:+0100
TZOFFSETTO:+0200
TZNAME:CEST
DTSTART:20250330T010000
END:DAYLIGHT
BEGIN:STANDARD
TZOFFSETFROM:+0200
TZOFFSETTO:+0100
TZNAME:CET
DTSTART:20251026T010000
END:STANDARD
END:VTIMEZONE
BEGIN:VEVENT
DTSTART;TZID=Europe/Berlin:20250219T160000
DTEND;TZID=Europe/Berlin:20250219T180000
DTSTAMP:20260420T200411
CREATED:20250209T125304Z
LAST-MODIFIED:20250210T095734Z
UID:10540-1739980800-1739988000@naturschutzstation-hahneberg.de
SUMMARY:Naturentdeckergruppe "Die Naturentdecker vom Hahneberg"
DESCRIPTION:Schnitzen und Leckereien vom Feuer
URL:https://naturschutzstation-hahneberg.de/event/naturentdeckergruppe-die-naturentdecker-vom-hahneberg/
LOCATION:Naturschutzstation Hahneberg\, Heerstr. 549\, Berlin\, 13593\, Deutschland
CATEGORIES:Naturpäd. Programm
ATTACH;FMTTYPE=image/jpeg:https://naturschutzstation-hahneberg.de/wp-content/uploads/2022/04/Frisch.jpg
ORGANIZER;CN="Naturschutzstation%20Hahneberg":MAILTO:mail@naturschutzstation-hahneberg.de
END:VEVENT
END:VCALENDAR