BEGIN:VCALENDAR
VERSION:2.0
PRODID:-//Naturschutzstation Hahneberg - ECPv5.7.0//NONSGML v1.0//EN
CALSCALE:GREGORIAN
METHOD:PUBLISH
X-WR-CALNAME:Naturschutzstation Hahneberg
X-ORIGINAL-URL:https://naturschutzstation-hahneberg.de
X-WR-CALDESC:Events for Naturschutzstation Hahneberg
BEGIN:VTIMEZONE
TZID:Europe/Berlin
BEGIN:DAYLIGHT
TZOFFSETFROM:+0100
TZOFFSETTO:+0200
TZNAME:CEST
DTSTART:20250330T010000
END:DAYLIGHT
BEGIN:STANDARD
TZOFFSETFROM:+0200
TZOFFSETTO:+0100
TZNAME:CET
DTSTART:20251026T010000
END:STANDARD
END:VTIMEZONE
BEGIN:VEVENT
DTSTART;TZID=Europe/Berlin:20250505T180000
DTEND;TZID=Europe/Berlin:20250505T200000
DTSTAMP:20260421T065806
CREATED:20250131T080747Z
LAST-MODIFIED:20250131T080747Z
UID:10504-1746468000-1746475200@naturschutzstation-hahneberg.de
SUMMARY:Abendliche VogelfÃ¼hrung am Hahneberg
DESCRIPTION:Die vogelkundliche FÃ¼hrung richtet sich an ornithologische Einsteiger und naturbegeisterte Erwachsene und Kinder ab zwÃ¶lf Jahren. Nahezu alle ZugvÃ¶gel sind wieder da und das Brutgeschehen ist in vollem Gang. \nGerne kÃ¶nnt Ihr Euer eigenes Fernglas mitbringen\, LeihfernglÃ¤ser sind in begrenzter Zahl vorhanden. Um die VÃ¶gel mÃ¶glichst wenig zu stÃ¶ren und gut beobachten zu kÃ¶nnen\, bitten wir Euch\, ohne Hunde zu erscheinen. \nLeitung: Ornithologe AndrÃ© Eden. Die Teilnehmerzahl ist begrenzt und wir bitten um eine Anmeldung Ã¼ber mail@naturschutzstation-hahneberg.de oder unter 030/263 007 87.\nDie FÃ¼hrung ist kostenfrei\, Ã¼ber eine Spende freuen wir uns aber sehr. \n  \nTreffpunkt: Naturschutzstation Hahneberg\, Heerstr. 549\, 13593 Berlin\, erreichbar mit Ã¶ffentlichen Verkehrsmitteln (Bus M37\, X49\, M49; Haltestelle Hahneberg)
URL:https://naturschutzstation-hahneberg.de/event/abendliche-vogelfuehrung-am-hahneberg/
LOCATION:Naturschutzstation Hahneberg\, Heerstr. 549\, Berlin\, 13593\, Deutschland
CATEGORIES:FÃ¼hrung
ATTACH;FMTTYPE=image/jpeg:https://naturschutzstation-hahneberg.de/wp-content/uploads/2025/01/Steinschmaetzer-Pixabay.jpg
ORGANIZER;CN="Naturschutzstation%20Hahneberg":MAILTO:mail@naturschutzstation-hahneberg.de
END:VEVENT
END:VCALENDAR