BEGIN:VCALENDAR
VERSION:2.0
PRODID:-//Naturschutzstation Hahneberg - ECPv5.7.0//NONSGML v1.0//EN
CALSCALE:GREGORIAN
METHOD:PUBLISH
X-WR-CALNAME:Naturschutzstation Hahneberg
X-ORIGINAL-URL:https://naturschutzstation-hahneberg.de
X-WR-CALDESC:Events for Naturschutzstation Hahneberg
BEGIN:VTIMEZONE
TZID:Europe/Berlin
BEGIN:DAYLIGHT
TZOFFSETFROM:+0100
TZOFFSETTO:+0200
TZNAME:CEST
DTSTART:20250330T010000
END:DAYLIGHT
BEGIN:STANDARD
TZOFFSETFROM:+0200
TZOFFSETTO:+0100
TZNAME:CET
DTSTART:20251026T010000
END:STANDARD
END:VTIMEZONE
BEGIN:VEVENT
DTSTART;TZID=Europe/Berlin:20250521T170000
DTEND;TZID=Europe/Berlin:20250521T183000
DTSTAMP:20260424T024811
CREATED:20250327T221828Z
LAST-MODIFIED:20250507T084124Z
UID:10651-1747846800-1747852200@naturschutzstation-hahneberg.de
SUMMARY:FEIERABENDGÄRTNERN AM HAHNEBERG -   FÜR INTERESSIERTE GARTENFREUND*INNEN
DESCRIPTION:Wie? Wo? Wer? \nWir laden Alle herzlich ein\, die Lust auf gemeinsames Gärtnern und Austausch haben &#8211; egal ob mit oder ohne Vorerfahrung. \nGemeinsam gärtnern wir im Garten unserer Naturschutzstation und lernen spannende Tipps & Tricks zu einem jahreszeitlich passenden Thema! \n \nWann? Was? \nSäen\, Pflanzen\, Wasser sparen Mi.\, 21. Mai \nKräuter\, Steine\, Sand und Co (Permakultur\, einfache Beete für Balkon und Garten) \nMi.\, 18. Juni & Mi.\,25\, Juni \nSummen\, Brummen und Bestäuben (Wildbienen\, Käfer und Kolleg*innen) \nMi.\, 16. Juli Wassersparendes Gärtnern (Einführung in den Bau von “Ollas”) \nMi.\, 23. Juli Ernten und Herbstpflanzung \nMi.\, 6. August & Mi.\, 13. August \n \nInteressiert ?  \nDann meldet Euch gerne an unter: \nemail: herwig@lpvspandau.onmicrosoft.com \n(Cordula Herwig) \nOder telefonisch unter: \nTel. 030/26300787  Mobil 0175/1178352 \n(falls ihr Euch weitere Informationen wünscht\, nennt uns gerne Eure Kontaktdaten\, Cordula meldet sich innerhalb der nächsten Tage) \n 
URL:https://naturschutzstation-hahneberg.de/event/feierabendgaertnern-am-hahneberg-fuer-interessierte-gartenfreundinnen-3/
LOCATION:Naturschutzstation Hahneberg\, Heerstr. 549\, Berlin\, 13593\, Deutschland
CATEGORIES:Gärtnern
ATTACH;FMTTYPE=image/jpeg:https://naturschutzstation-hahneberg.de/wp-content/uploads/2025/03/20240723_161156-scaled.jpg
ORGANIZER;CN="Naturschutzstation%20Hahneberg":MAILTO:mail@naturschutzstation-hahneberg.de
END:VEVENT
END:VCALENDAR