BEGIN:VCALENDAR
VERSION:2.0
PRODID:-//Naturschutzstation Hahneberg - ECPv5.7.0//NONSGML v1.0//EN
CALSCALE:GREGORIAN
METHOD:PUBLISH
X-WR-CALNAME:Naturschutzstation Hahneberg
X-ORIGINAL-URL:https://naturschutzstation-hahneberg.de
X-WR-CALDESC:Events for Naturschutzstation Hahneberg
BEGIN:VTIMEZONE
TZID:Europe/Berlin
BEGIN:DAYLIGHT
TZOFFSETFROM:+0100
TZOFFSETTO:+0200
TZNAME:CEST
DTSTART:20250330T010000
END:DAYLIGHT
BEGIN:STANDARD
TZOFFSETFROM:+0200
TZOFFSETTO:+0100
TZNAME:CET
DTSTART:20251026T010000
END:STANDARD
END:VTIMEZONE
BEGIN:VEVENT
DTSTART;TZID=Europe/Berlin:20250523T100000
DTEND;TZID=Europe/Berlin:20250523T130000
DTSTAMP:20260424T095033
CREATED:20250423T155725Z
LAST-MODIFIED:20250423T155725Z
UID:10703-1747994400-1748005200@naturschutzstation-hahneberg.de
SUMMARY:Vom „König der Wege“\, dem „Achilleskraut“\, dem „Hagedorn“ und anderen wilden Berliner Pflanzenpersönlichkeiten:                         Wildkräuterführung mit anschließendem Imbiss an der „Naturschutzstation Hahneberg“
DESCRIPTION:Auf einem gemeinsamen Streifzug über das Gelände der Naturschutzstation am Fuße des Hahneberges lernen wir einige &#8211; meist recht unscheinbare &#8211; grüne “Wegelagerer”\, an denen man sonst eher achtlos vorbeiziehen würde\, besser kennen. \nKlein\, aber oho ist hier das Motto\, denn Manche unter ihnen haben es wirklich in sich\, sind sie doch wahre Mineralien- und Vitaminbomben\, die unsere heimische Küche z.T. auch geschmacklich bestens bereichern können. \nBegleitet uns also auf der Suche nach &#8211; v.a. essbaren &#8211; Wildpflanzen wie z.B.: Wegerich\, Gundermann\, Taubnessel\, Brennnessel\, Schafgarbe\, Weißdorn oder Hirtentäschel &#8211; u.a.m. \nGartenkräuter und -pflanzen aus Hochbeet und Kräuterspirale bilden einen weiteren Aspekt unseres kleinen Kräuterspaziergangs. \nJede/r hat hier die Möglichkeit\, die verschiedenen Sinne zu aktivieren und sich die Pflanzen genau anschauen\, zu schmecken\, zu riechen und zu erfühlen. \nDie Naturpädagogin Cordula Herwig von der Naturschutzstation Hahneberg teilt dabei ihr Wissen über die Wirkungsweise und Anwendung der Pflanzen in Küche und Hausapotheke. \nRichtig praktisch wird´s dann gegen Ende: hier gibt es die Möglichkeit\, einen frischen grünen smoothie zu mixen und eine würzige Kleinigkeit zum Knabbern für Zwischendurch gemeinsam herzustellen – und natürlich auch zu verkosten! \nBitte mitbringen: Messer oder Schere\, ein kleines Schraubglas und einen kleinen (Stoff-)Beutel. \nWann? Fr.\, 23.5.2025\, 10:00 &#8211; 13:00 Uhr. \nWo? Naturschutzstation Hahneberg\, Heerstraße 549\, 13593 Berlin (www.naturschutzstation-hahneberg.de) \nAnmeldung: Eine Anmeldung ist erforderlich unter 030/ 36 43 51 43 oder info@kulturzentrum-staaken.de. \n \nKostenbeitrag: Der Beitrag beträgt 4 €.
URL:https://naturschutzstation-hahneberg.de/event/vom-koenig-der-wege-dem-achilleskraut-dem-hagedorn-und-anderen-wilden-berliner-pflanzenpersoenlichkeiten-wildkraeuterfu/
LOCATION:Naturschutzstation Hahneberg\, Heerstr. 549\, Berlin\, 13593\, Deutschland
CATEGORIES:Führung,Gärtnern,Naturpäd. Programm
ATTACH;FMTTYPE=image/jpeg:https://naturschutzstation-hahneberg.de/wp-content/uploads/2024/01/IMG_5330-scaled.jpg
ORGANIZER;CN="Kulturzentrum%20Staaken":MAILTO:infokulturzentrum-staaken.de
END:VEVENT
BEGIN:VEVENT
DTSTART;TZID=Europe/Berlin:20250523T163000
DTEND;TZID=Europe/Berlin:20250523T173000
DTSTAMP:20260424T095033
CREATED:20250220T130314Z
LAST-MODIFIED:20250220T130315Z
UID:10557-1748017800-1748021400@naturschutzstation-hahneberg.de
SUMMARY:Märchenwanderung am Hahneberg
DESCRIPTION:Wandert mit dem Märchenerzähler Steinkauz durch die verwunschene Landschaft des Hahnebergs und lasst euch für eine Stunde in die Welt der Fabelwesen entführen. Der Spaziergang endet an einem Märchenpfad\, der liebevoll von Kindern mit selbst gebauten Fabelwesen gestaltet wurde. Das Angebot richtet sich vor allem an Familien\, aber auch an neugierige Erwachsene. \nDie Teilnehmerzahl ist begrenzt. Anmeldung erforderlich unter mail@naturschutzstation-hahneberg.de oder unter 030/263 007 87. \nDie Führung ist kostenfrei\, über eine Spende freuen wir uns aber sehr! \nWir bitten um wettertaugliche Kleidung und festes\, bequemes Schuhwerk. \nWo: Treffpunkt an der Naturschutzstation Hahneberg\, Heerstraße 549 in 13593 Berlin.
URL:https://naturschutzstation-hahneberg.de/event/maerchenwanderung-am-hahneberg-24/
LOCATION:Naturschutzstation Hahneberg\, Heerstr. 549\, Berlin\, 13593\, Deutschland
CATEGORIES:Spaziergang
ATTACH;FMTTYPE=image/jpeg:https://naturschutzstation-hahneberg.de/wp-content/uploads/2024/01/Froschkoenig.jpg
ORGANIZER;CN="Naturschutzstation%20Hahneberg":MAILTO:mail@naturschutzstation-hahneberg.de
END:VEVENT
BEGIN:VEVENT
DTSTART;TZID=Europe/Berlin:20250523T210000
DTEND;TZID=Europe/Berlin:20250523T223000
DTSTAMP:20260424T095033
CREATED:20250408T105205Z
LAST-MODIFIED:20250521T150700Z
UID:10678-1748034000-1748039400@naturschutzstation-hahneberg.de
SUMMARY:abgesagt-Nachtschwärmer gesucht
DESCRIPTION:Die schillernde und faszinierende Welt der nachtaktiven Schmetterlinge bleibt unserem Auge normalerweise verborgen. Wie leben Nachtfalter\, wie unterscheiden sie sich zu den tagaktiven Schmetterlingen\, woher kommen ihre Namen? Mit Hilfe unserer Nachtfalterexpertin Cathrina Balthasar werden wir die Geheimnisse ans Licht locken. Taucht mit uns ab in die Nacht um unsere heimischen Nachtschwärmer\, Spinner und Spanner und ihre Lebensweise genauer unter die Lupe zu nehmen. \nEine Anmeldung ist erforderlich unter mail@naturschutzstation-hahneberg.de oder unter 030/263 007 87. \nDie Veranstaltung ist kostenfrei\, über eine Spende freuen wir uns aber sehr!
URL:https://naturschutzstation-hahneberg.de/event/nachtschwaermer-gesucht/
LOCATION:Naturschutzstation Hahneberg\, Heerstr. 549\, Berlin\, 13593\, Deutschland
CATEGORIES:Führung
ATTACH;FMTTYPE=image/jpeg:https://naturschutzstation-hahneberg.de/wp-content/uploads/2024/01/Nachtfalter.jpg
ORGANIZER;CN="Naturschutzstation%20Hahneberg":MAILTO:mail@naturschutzstation-hahneberg.de
END:VEVENT
END:VCALENDAR