BEGIN:VCALENDAR
VERSION:2.0
PRODID:-//Naturschutzstation Hahneberg - ECPv5.7.0//NONSGML v1.0//EN
CALSCALE:GREGORIAN
METHOD:PUBLISH
X-WR-CALNAME:Naturschutzstation Hahneberg
X-ORIGINAL-URL:https://naturschutzstation-hahneberg.de
X-WR-CALDESC:Events for Naturschutzstation Hahneberg
BEGIN:VTIMEZONE
TZID:Europe/Berlin
BEGIN:DAYLIGHT
TZOFFSETFROM:+0100
TZOFFSETTO:+0200
TZNAME:CEST
DTSTART:20250330T010000
END:DAYLIGHT
BEGIN:STANDARD
TZOFFSETFROM:+0200
TZOFFSETTO:+0100
TZNAME:CET
DTSTART:20251026T010000
END:STANDARD
END:VTIMEZONE
BEGIN:VEVENT
DTSTART;TZID=Europe/Berlin:20250920T100000
DTEND;TZID=Europe/Berlin:20250920T120000
DTSTAMP:20260426T062138
CREATED:20250131T091530Z
LAST-MODIFIED:20250804T092517Z
UID:10531-1758362400-1758369600@naturschutzstation-hahneberg.de
SUMMARY:WildkrÃ¤uterfÃ¼hrung am Hahneberg
DESCRIPTION:Schwerpunkt sind essbare Pflanzen und Heilpflanzen. Entdeckt in einer zweistÃ¼ndigen Wanderung durch die abwechslungsreiche Flora des GelÃ¤ndes rund um den Hahneberg botanische RaritÃ¤ten und kÃ¼chentaugliches Wildobst- oder gemÃ¼se. Gemeinsam mit unserer KrÃ¤uterexpertin Frau Susanna Komischke\, die ihr umfangreiches Wissen Ã¼ber Heilwirkungen\, Verwendung und Inhaltsstoffe mit Euch teilt\, wandert Ihr Ã¼ber den ehemaligen Grenzstreifen hinauf zum neuen Hahneberg. Dort werdet Ihr mit einem weiten Blick Ã¼ber die Stadt\, aber auch vielen neuen Erkenntnissen belohnt. \nKondition fÃ¼r eine 2-stÃ¼ndige Wanderung erforderlich. Wir bitten um wettertaugliche Kleidung und festes Schuhwerk. \nDie Teilnehmendenzahl ist begrenzt und wir bitten um eine Anmeldung Ã¼ber mail@naturschutzstation-hahneberg.de oder unter 030/263 007 87. \nDie FÃ¼hrung ist kostenfrei\, Ã¼ber eine Spende freuen wir uns aber sehr. \nTreffpunkt: Naturschutzstation Hahneberg\, Heerstr. 549\, 13593 Berlin\, erreichbar mit Ã¶ffentlichen Verkehrsmitteln (Bus M37\, X49\, M49; Haltestelle Hahneberg) \n 
URL:https://naturschutzstation-hahneberg.de/event/wildkraeuterfuehrung-am-hahneberg-20/
LOCATION:Naturschutzstation Hahneberg\, Heerstr. 549\, Berlin\, 13593\, Deutschland
CATEGORIES:FÃ¼hrung
ATTACH;FMTTYPE=image/jpeg:https://naturschutzstation-hahneberg.de/wp-content/uploads/2025/01/Wildblumen-September.jpg
ORGANIZER;CN="Naturschutzstation%20Hahneberg":MAILTO:mail@naturschutzstation-hahneberg.de
END:VEVENT
BEGIN:VEVENT
DTSTART;TZID=Europe/Berlin:20250920T150000
DTEND;TZID=Europe/Berlin:20250920T170000
DTSTAMP:20260426T062138
CREATED:20250919T082215Z
LAST-MODIFIED:20250919T082215Z
UID:10924-1758380400-1758387600@naturschutzstation-hahneberg.de
SUMMARY:Herbstwanderung am Hahneberg
DESCRIPTION:FÃ¼r etwa 3 Stunden gemeinsam wandern/spazieren in der Natur von Berlin-Spandau.\nGanz entspannt Ã¼ber 10.000 Schritte erreichen Die Wanderung findet kurz vor dem\nkalendarischen Herbstanfang statt. Bei dieser Wanderung gibt es auÃŸer der wirklich\nerstaunlich schÃ¶nen und abwechslungsreichen Landschaft Spandaus auch einiges\nzum Thema Herbst und Natur zu erfahren: Warum verfÃ¤rben sich die BlÃ¤tter der\nBÃ¤ume und welche Unterschiede lassen sich entdecken? Wie riecht die Erde jetzt?\nWelche VÃ¶gel haben uns bereits verlassen oder sind kurz davor? \nKursleiterin: Dr. Staschok\, Mireille \nWir bitten um wetterfeste Kleidung und festes\, bequemes Schuhwerk. Die notwendige Kondition fÃ¼r eine 3-stÃ¼ndige Wanderung (meist 8-9 km) sollte vorhanden sein. \nTreffpunkt: 15:00 Uhr Naturschutzstation Hahneberg\, Heerstr. 549\,13593 Berlin. Anreise mit Ã¶ffentlichen Verkehrsmitteln: Bus M37\, X49\, M49 (Haltestelle Hahneberg)\nDies ist keine Rundwanderung! Endpunkt: Haltestelle Alt-Pichelsdorf\, Bus X34\, M36\, X49\, M49. Ende ca. 18:00 Uhr
URL:https://naturschutzstation-hahneberg.de/event/herbstwanderung-am-hahneberg/
LOCATION:Naturschutzstation Hahneberg\, Heerstr. 549\, Berlin\, 13593\, Deutschland
CATEGORIES:FÃ¼hrung
ATTACH;FMTTYPE=image/jpeg:https://naturschutzstation-hahneberg.de/wp-content/uploads/2025/07/sun-3590651_640.jpg
END:VEVENT
END:VCALENDAR