BEGIN:VCALENDAR
VERSION:2.0
PRODID:-//Naturschutzstation Hahneberg - ECPv5.7.0//NONSGML v1.0//EN
CALSCALE:GREGORIAN
METHOD:PUBLISH
X-WR-CALNAME:Naturschutzstation Hahneberg
X-ORIGINAL-URL:https://naturschutzstation-hahneberg.de
X-WR-CALDESC:Events for Naturschutzstation Hahneberg
BEGIN:VTIMEZONE
TZID:Europe/Berlin
BEGIN:DAYLIGHT
TZOFFSETFROM:+0100
TZOFFSETTO:+0200
TZNAME:CEST
DTSTART:20250330T010000
END:DAYLIGHT
BEGIN:STANDARD
TZOFFSETFROM:+0200
TZOFFSETTO:+0100
TZNAME:CET
DTSTART:20251026T010000
END:STANDARD
END:VTIMEZONE
BEGIN:VEVENT
DTSTART;TZID=Europe/Berlin:20251220T130000
DTEND;TZID=Europe/Berlin:20251220T160000
DTSTAMP:20260422T044441
CREATED:20251024T094934Z
LAST-MODIFIED:20251024T094934Z
UID:10997-1766235600-1766246400@naturschutzstation-hahneberg.de
SUMMARY:Winterwanderung
DESCRIPTION:Kurz vor Weihnachten laden wir Sie ein\, für ein paar Stunden dem vorweihnachtlichen Trubel zu entfliehen und die stille Schönheit der Natur in Berlin-Spandau zu genießen. Bei einer entspannten\, etwa dreistündigen Wanderung erkunden wir die abwechslungsreiche Landschaft Spandaus und kommen dabei auf rund 10.000 Schritte – ganz ohne Eile. \nUnterwegs entdecken wir\, was im Winter noch grünt\, welche Farben die Natur auch in der kalten Jahreszeit bereithält\, und welche Vögel uns am Wegesrand begleiten. Passend zur Jahreszeit erfahren Sie außerdem Spannendes über den Unterschied zwischen Tanne und Fichte – ein Thema\, das kurz vor Weihnachten besonders interessant ist. \nBitte denken Sie an wetterfeste Kleidung und festes\, bequemes Schuhwerk. Eine gute Grundkondition für eine rund 8–9 km lange Wanderung sollte vorhanden sein. \nKursleiterin: Dr. Staschok\, Mireille \nVHS Kursnummer: Sp1.403-H \nAnmeldung unter: Tel.: 90279 5000 // E-Mail: info@vhs-spandau.de \nKosten: 12 Euro (ermäßigt 6 Euro) \n\nTreffpunkt: 13:00 Uhr Naturschutzstation Hahneberg\, Heerstr. 549\,13593 Berlin \nAnreise mit öffentlichen Verkehrsmitteln: Bus M37\, X49\, M49 (Haltestelle Hahneberg)  \nDies ist keine Rundwanderung! Endpunkt: Haltestelle Alt-Pichelsdorf\, Bus X34\, M36\, X49\, M49
URL:https://naturschutzstation-hahneberg.de/event/winterwanderung-2/
LOCATION:Naturschutzstation Hahneberg\, Heerstr. 549\, Berlin\, 13593\, Deutschland
CATEGORIES:Spaziergang,Wanderung
ATTACH;FMTTYPE=image/jpeg:https://naturschutzstation-hahneberg.de/wp-content/uploads/2025/10/trees-6084320_1280.jpg
END:VEVENT
END:VCALENDAR