BEGIN:VCALENDAR
VERSION:2.0
PRODID:-//Naturschutzstation Hahneberg - ECPv5.7.0//NONSGML v1.0//EN
CALSCALE:GREGORIAN
METHOD:PUBLISH
X-WR-CALNAME:Naturschutzstation Hahneberg
X-ORIGINAL-URL:https://naturschutzstation-hahneberg.de
X-WR-CALDESC:Events for Naturschutzstation Hahneberg
BEGIN:VTIMEZONE
TZID:Europe/Berlin
BEGIN:DAYLIGHT
TZOFFSETFROM:+0100
TZOFFSETTO:+0200
TZNAME:CEST
DTSTART:20220327T010000
END:DAYLIGHT
BEGIN:STANDARD
TZOFFSETFROM:+0200
TZOFFSETTO:+0100
TZNAME:CET
DTSTART:20221030T010000
END:STANDARD
END:VTIMEZONE
BEGIN:VEVENT
DTSTART;TZID=Europe/Berlin:20220701T140000
DTEND;TZID=Europe/Berlin:20220701T160000
DTSTAMP:20260422T044441
CREATED:20220629T102047Z
LAST-MODIFIED:20220629T102047Z
UID:8792-1656684000-1656691200@naturschutzstation-hahneberg.de
SUMMARY:Richtfest
DESCRIPTION:Die Hochschule für Technik Berlin und die Naturschutzstation Hahneberg\nAller guten Dinge sind am Hahneberg sogar vier – Erneut im Einsatz für die Naturschutzstation \nAuch während des mittlerweile vierten Bauabschnittes entwickelten Studierende des Studiengangs Landschaftsarchitektur der Berliner Hochschule für Technik unter Leitung von Frau Prof. Dr.-Ing. Rohlfing die Außenanlagen der Naturschutzstation systematisch weiter. Mit dabei waren auch zahlreiche helfende Hände der Auszubildenden des Grünflächenamtes Spandau sowie der Trägergesellschaft C.U.B.A GmbH. Zukünftig kann auf der erweiterten Fläche auf 38 neu entstandenen Nachbarschaftsbeeten und Ackerstreifen für Schul- und Kitagruppen gesät\, gepflanzt und geerntet werden. Abgerundet wird die Fläche mit einer Obstbaumwiese\, Naschbeeten und Blühstreifen sowie angelegten Habitate für die Zauneidechse und Sandbienenarten. Picknickbänke und ein grünes Klassenzimmer bieten einen Ort\, um zusammen zu kommen\, sich auszutauschen und Einblicke in spannende Themen rund um das Thema Gärtnern und Natur zu bekommen. Die Fertigstellung erfolgte am 17. Juni. \nFördermittel machen es möglich\nGefördert wird die Baumaßnahmen wieder aus Mitteln des Programms „Stadtumbau West“\, die die Studierenden größtenteils eigenständig beantragt haben. Unterstützt wurden sie dabei durch das Umwelt- und Naturschutzamt\, das Straßen- und Grünflächenamt sowie das Stadtplanungsamt und natürlich auch durch den Träger der Naturschutzstation\, dem Landschaftspflegeverband Spandau e.V. \n\nRichtfest und Nachbarschaftsbeete\nDie Naturschutzstation Hahneberg laden Sie herzlich ein\, sich das Ergebnis beim Richtfest am 01.07.22 um 14 Uhr persönlich anzuschauen und zu erkunden. Bitte melden Sie sich dafür telefonisch oder per E-Mail bei der Naturschutzstation Hahneberg an. Sollten Sie Interesse an einem Nachbarschaftsbeet haben\, können Sie sich beim Richtfest in eine Liste eintragen oder das Team der Naturschutzstation Hahneberg kontaktieren.
URL:https://naturschutzstation-hahneberg.de/event/richtfest-2/
LOCATION:Naturschutzstation Hahneberg\, Heerstr. 549\, Berlin\, 13593\, Deutschland
CATEGORIES:Fest
ATTACH;FMTTYPE=image/jpeg:https://naturschutzstation-hahneberg.de/wp-content/uploads/2022/06/IMG_20200929_171234-scaled.jpg
ORGANIZER;CN="Naturschutzstation%20Hahneberg":MAILTO:mail@naturschutzstation-hahneberg.de
END:VEVENT
BEGIN:VEVENT
DTSTART;TZID=Europe/Berlin:20220705T173000
DTEND;TZID=Europe/Berlin:20220705T184500
DTSTAMP:20260422T044441
CREATED:20220221T134529Z
LAST-MODIFIED:20220221T134530Z
UID:8625-1657042200-1657046700@naturschutzstation-hahneberg.de
SUMMARY:Sommeryoga in der Natur
DESCRIPTION:Erlebe Entspannung und Entschleunigung in Bewegung. Finde innere Ruhe\, Gelassenheit und neue Lebensfreue. Es sind keinerlei Vorkenntnisse notwendig\, es genügt offen zu sein. \nKursleiterin: Bettina Flint von Raum für Yoga und Meditation\nKosten: 25€ pro Terminreihe (2 Termine) \nTerminreihe:\nDi 28.6.22\, 17:30-18:45\nDi 05.7.22\, 17:30-18:45 \nWo: Naturschutzstation Hahneberg\, Heerstr. 549\, 13593 Berlin \nDie Teilnehmerzahl ist begrenzt. Anmeldung bitte verbindlich jeweils 2 Werktage vor Beginn der Terminreihe telefonisch unter 0178/2363 496\, oder per E-Mail an bettinaflint@raum-fuer-yoga-und-meditation.de. Wir behalten uns coronabedingte Änderungen vor.\nBitte bringe eine Yogamatte\, Decke\, Sitzkissen und bequeme Kleidung mit.
URL:https://naturschutzstation-hahneberg.de/event/sommeryoga-in-der-natur-9/
LOCATION:Naturschutzstation Hahneberg\, Heerstr. 549\, Berlin\, 13593\, Deutschland
CATEGORIES:Kurs
ATTACH;FMTTYPE=image/jpeg:https://naturschutzstation-hahneberg.de/wp-content/uploads/2020/12/IMG_1801-scaled.jpg
ORGANIZER;CN="Naturschutzstation%20Hahneberg":MAILTO:mail@naturschutzstation-hahneberg.de
END:VEVENT
BEGIN:VEVENT
DTSTART;TZID=Europe/Berlin:20220707T170000
DTEND;TZID=Europe/Berlin:20220707T184500
DTSTAMP:20260422T044441
CREATED:20220127T111017Z
LAST-MODIFIED:20220127T111018Z
UID:8550-1657213200-1657219500@naturschutzstation-hahneberg.de
SUMMARY:Sommeryoga in der Natur
DESCRIPTION:Erlebe Entspannung und Entschleunigung in Bewegung. Finde innere Ruhe\, Gelassenheit und neue Lebensfreue. Es sind keinerlei Vorkenntnisse notwendig\, es genügt offen zu sein. \nKursleiterin: Bettina Flint von Raum für Yoga und Meditation\nKosten: 25€ pro Terminreihe (2 Termine) \nTerminreihe:\nDo 30.6.22\, 17:30-18:45\nDo 07.7.22\, 17:30-18:45 \nWo: Naturschutzstation Hahneberg\, Heerstr. 549\, 13593 Berlin \nDie Teilnehmerzahl ist begrenzt. Anmeldung bitte verbindlich jeweils 2 Werktage vor Beginn der Terminreihe telefonisch unter 0178/2363 496\, oder per E-Mail an bettinaflint@raum-fuer-yoga-und-meditation.de. Wir behalten uns coronabedingte Änderungen vor.\nBitte bringe eine Yogamatte\, Decke\, Sitzkissen und bequeme Kleidung mit.
URL:https://naturschutzstation-hahneberg.de/event/sommeryoga-in-der-natur-7/
LOCATION:Naturschutzstation Hahneberg\, Heerstr. 549\, Berlin\, 13593\, Deutschland
CATEGORIES:Sonstiges
ATTACH;FMTTYPE=image/jpeg:https://naturschutzstation-hahneberg.de/wp-content/uploads/2020/12/IMG_1801-scaled.jpg
ORGANIZER;CN="Naturschutzstation%20Hahneberg":MAILTO:mail@naturschutzstation-hahneberg.de
END:VEVENT
BEGIN:VEVENT
DTSTART;TZID=Europe/Berlin:20220708T150000
DTEND;TZID=Europe/Berlin:20220708T173000
DTSTAMP:20260422T044441
CREATED:20220707T080150Z
LAST-MODIFIED:20220707T083943Z
UID:8807-1657292400-1657301400@naturschutzstation-hahneberg.de
SUMMARY:Wo die wilden Bienen wohnen
DESCRIPTION:Unter dem diesjährigen Motto „Wo die wilden Bienen wohnen“ laden wir wieder alle Bürger*innen herzlich ein\, mit den Expert*innen der Aurelia Stiftung auf Wildbienen-Entdeckungstour in Berlin zu gehen. Ergänzt werden die geführten Exkursionen durch spannende Online-Seminare und Workshops. Unter www.aurelia-stiftung.de finden Sie alle Termine sowie Infos zur kostenfreien Teilnahme! \nChristian Lichtenau wird Sie gemeinsam mit dem Wildbienen-Experten Frederik Rothe zu den arten- & blütenreichen Flächen am Hahneberg führen. Das Ziel der unterhaltsamen wie informativen Veranstaltung ist\, den Teilnehmenden unsere heimischen Wildbienenarten in ihrem Habitat hautnah zu präsentieren und mit Ihnen über die Ökologie und Schutzbedürfnisse der Wildbienen ins Gespräch zu kommen. \nDer Treffpunkt ist an der Naturschutzstation Hahneberg. Die Teilnahme ist kostenfrei\, wir freuen uns aber über eine Spende für das Projekt.\nEine Anmeldung per Email an wildbienen-erlebnisse@aurelia-stiftung.de oder unter 030 577 00 39 61 ist erforderlich.\nWeitere Informationen zum Ablauf bekommen Sie nach erfolgter Anmeldung per E-Mail.
URL:https://naturschutzstation-hahneberg.de/event/wo-die-wilden-bienen-wohnen/
LOCATION:Naturschutzstation Hahneberg\, Heerstr. 549\, Berlin\, 13593\, Deutschland
CATEGORIES:Führung
ATTACH;FMTTYPE=image/jpeg:https://naturschutzstation-hahneberg.de/wp-content/uploads/2022/06/IMG_0781_1-scaled-e1656499567140.jpg
ORGANIZER;CN="Naturschutzstation%20Hahneberg":MAILTO:mail@naturschutzstation-hahneberg.de
END:VEVENT
BEGIN:VEVENT
DTSTART;TZID=Europe/Berlin:20220709T100000
DTEND;TZID=Europe/Berlin:20220709T130000
DTSTAMP:20260422T044441
CREATED:20220208T094120Z
LAST-MODIFIED:20220208T094121Z
UID:8568-1657360800-1657371600@naturschutzstation-hahneberg.de
SUMMARY:Workshop Nature Journaling
DESCRIPTION:Einführung in die Gestaltung eines Naturtagebuches\n„Ich kann nicht mehr sehen als du\, aber ich habe mich selbst darin geübt\, zu bemerken Was ich sehe.“ – Sherlock Holmes \nWas erwartet Dich:​ In unserer hektischen Zeit nehmen wir uns oft nicht den Moment\, um unsere Umgebung einmal aufmerksam und bewusst wahrzunehmen. Oft bemerken wir dann gar nicht im Detail\, was uns alles umgibt und wie sich unsere Umwelt im Laufe des Jahres verändert. Die Anfertigung eines Naturtagebuchs bietet uns die Möglichkeit\, einmal langsamer zu werden\, innezuhalten und genau hinzuschauen. \nIn diesem Workshop verbinden wir diese Tradition mit ausgewählten naturpädagogischen Aktionen und Achtsamkeitsübungen. Neben der Vermittlung von Wissen\, erleben wir wie in uns eine tiefere Begeisterung wächst und wir Wunder entdecken\, an denen wir ansonsten vorbeigegangen wären. Um ein Naturtagebuch anzufertigen\, müssen wir keine guten Zeichner sein. Es geht nicht nur darum\, was auf den Seiten entsteht\, sondern liegt vielmehr in der Erfahrung\, im Beobachten und im Eintauchen in die Natur\, sowie ins Hier und Jetzt. \nDie Biologin und Naturpädagogin Lucia Kühn (Naturschutzstation Hahneberg) und die Naturpädagogin Luisa Wolf (www.wildfühlung.de) freuen sich\, dich durch den Workshop begleitet zu dürfen und stehen für Fragen und Anregung zur Verfügung. \nAnmeldung erforderlich unter mail@naturschutzstation-hahneberg.de oder unter 030/263 007 87. Der Workshop ist kostenlos\, über eine Spende freuen wir uns aber sehr! Wir bitten um wettertaugliche Kleidung und behalten uns coronabedingte Änderungen vor.
URL:https://naturschutzstation-hahneberg.de/event/workshop-nature-journaling-3/
LOCATION:Naturschutzstation Hahneberg\, Heerstr. 549\, Berlin\, 13593\, Deutschland
CATEGORIES:Workshop
ATTACH;FMTTYPE=image/jpeg:https://naturschutzstation-hahneberg.de/wp-content/uploads/2020/05/Naturtagebuch2.jpg
ORGANIZER;CN="Naturschutzstation%20Hahneberg":MAILTO:mail@naturschutzstation-hahneberg.de
END:VEVENT
BEGIN:VEVENT
DTSTART;TZID=Europe/Berlin:20220709T150000
DTEND;TZID=Europe/Berlin:20220709T180000
DTSTAMP:20260422T044441
CREATED:20220629T104743Z
LAST-MODIFIED:20220629T104827Z
UID:8795-1657378800-1657389600@naturschutzstation-hahneberg.de
SUMMARY:Wildbienen entdecken
DESCRIPTION:Gemeinsam gehen Sie mit dem Biologen Frederik Rothe und der Biologin Lucia Kühn auf die Wiesen des Hahnebergs\, um mit Kecher und Lupe die unterschiedlichsten Wildbienen zu entdecken. Erfahren Sie dabei mehr über die spannende Ökologie und die Lebensweise von Mauerbiene\, Hummel\, Sandbiene und Co. Anschließend sprechen Frederik Rothe und Lucia Kühn im Garten der Naturschutzstation Hahneberg über bienenfreundliche Gärten\, geben Tipps für den eigenen Garten und Balkon und Einblicke in das Thema Insektennisthilfe. Was muss beachtet werden beim Bau dieser? Welche Materialien eignen sich und wo ist ein guter Ort\, um diese aufzustellen? Gemeinsam wenden Sie dieses Wissen bei dem Bau einer Insektennisthilfe für die Station oder der eigenen grünen Oase an und lernen so ein praktisches Beispiel kennen. Gerne können Sie unsere ExpertInnen alles fragen\, was Sie schon immer zum Thema Wildbienen und Nisthilfen wissen wollten. Bitte bringen Sie festes Schuhwerk mit. \nDiese Veranstaltung findet in Kooperation mit der VHS Spandau statt. Bitte buchen Sie den Kurs über folgenden Link: https://www.vhsit.berlin.de/VHSKURSE/BusinessPages/CourseDetail.aspx?id=639950 \nEntgeld: 10.60 Euro / Ermäßigt: 5.30 Euro
URL:https://naturschutzstation-hahneberg.de/event/wildbienen-entdecken/
LOCATION:Naturschutzstation Hahneberg\, Heerstr. 549\, Berlin\, 13593\, Deutschland
CATEGORIES:Führung,Workshop
ATTACH;FMTTYPE=image/jpeg:https://naturschutzstation-hahneberg.de/wp-content/uploads/2022/06/IMG_0781_1-scaled-e1656499567140.jpg
ORGANIZER;CN="Naturschutzstation%20Hahneberg":MAILTO:mail@naturschutzstation-hahneberg.de
END:VEVENT
BEGIN:VEVENT
DTSTART;TZID=Europe/Berlin:20220714T160000
DTEND;TZID=Europe/Berlin:20220714T180000
DTSTAMP:20260422T044441
CREATED:20220520T071418Z
LAST-MODIFIED:20220520T072336Z
UID:8760-1657814400-1657821600@naturschutzstation-hahneberg.de
SUMMARY:Die Naturentdecker vom Hahneberg 6-8 Jahre
DESCRIPTION:Ihr wolltet schon immer mal:\n• wissen\, ob Füchse und Kaninchen Schuhe tragen und auf Bäumen leben?\n• herausfinden\, ob Nashornkäfer Hörner am Po haben?\n• ausprobieren\, ob man Brennnesseln und anderes Grünzeug essen kann?\nDann seid ihr richtig in der Naturentdeckerwerkstatt an der Naturschutzstation Hahneberg!\nThema heute: Schleichen\, Lauschen\, Staunen: Taucht ein in die wilde Sommernatur am Hahneberg \nSagt euren Eltern schnell Bescheid\, dass Sie euch für den nächsten Termin bei uns anmelden\, unter 030/26300787 oder per Mail an herwig@lpvspandau.onmicrosoft.com. Die Veranstaltung ist kostenlos\, über eine Spende freuen wir uns aber sehr! Wir bitten um wettertaugliche Kleidung.
URL:https://naturschutzstation-hahneberg.de/event/die-naturentdecker-vom-hahneberg/
LOCATION:Naturschutzstation Hahneberg\, Heerstr. 549\, Berlin\, 13593\, Deutschland
CATEGORIES:Naturpäd. Programm
ATTACH;FMTTYPE=image/jpeg:https://naturschutzstation-hahneberg.de/wp-content/uploads/2022/04/Frisch.jpg
ORGANIZER;CN="Naturschutzstation%20Hahneberg":MAILTO:mail@naturschutzstation-hahneberg.de
END:VEVENT
BEGIN:VEVENT
DTSTART;TZID=Europe/Berlin:20220715T153000
DTEND;TZID=Europe/Berlin:20220715T173000
DTSTAMP:20260422T044441
CREATED:20220524T084359Z
LAST-MODIFIED:20220620T120941Z
UID:8768-1657899000-1657906200@naturschutzstation-hahneberg.de
SUMMARY:Wildtierrallye für tierbegeisterte Familien
DESCRIPTION:Ihr seid begeistert\, wenn euch ein Wildschwein\, Fuchs oder Kaninchen über den Weg läuft\, beobachtet gerne Greifvögel am Himmel oder würdet gerne mehr über wilde Tiere erfahren? Dann ist diese Veranstaltung genau das Richtige für euch!  \nGemeinsam mit den Spandauer Stadtnatur-RagerInnen erfahrt ihr mit Spielen\, Aktionen und Rätseln mehr über die Wildtiere am Hahneberg. Springt bei der Weitsprunganlage mit Hase\, Fuchs und Wildschwein um die Wette\, geht auf Spurensuche\, löst spannende Rätsel oder vergleicht eure Armspannweite mit der Flügelspannweite von Mäusebussard\, Rotmilan & Co. Ausgerüstet mit einer Stempelkarte\, bekommt ihr für jede gemeisterte Aufgabe einen Stempel. Wenn ihr die Karte voll habt\, gibt es ein kleines Geschenk.  \nWir freuen uns auf euer Kommen und bitten um Anmeldung unter 030/263 007 87 oder mail@naturschutzstation-hahneberg.de. Für Kinder ab 4 Jahren. Einstieg ab 15:30 Uhr jederzeit möglich\, spätestens jedoch bis 30 Minuten vor Ende der Veranstaltung. Gerne könnt ihr ein Picknick mitbringen und euch nach der Rallye im Garten der Naturschutzstation Hahneberg einen gemütlichen Platz suchen.   \nDie neuen Ausstattungselemente an der Naturschutzstation Hahneberg wurden aus Mitteln der Jagdabgabe über die Stiftung Naturschutz Berlin finanziert.
URL:https://naturschutzstation-hahneberg.de/event/einweiungsveranstaltung-wildtiere-am-hahneberg/
LOCATION:Naturschutzstation Hahneberg\, Heerstr. 549\, Berlin\, 13593\, Deutschland
CATEGORIES:Führung,Naturpäd. Programm
ATTACH;FMTTYPE=image/jpeg:https://naturschutzstation-hahneberg.de/wp-content/uploads/2022/05/pexels-cottonbro-9290027.jpg
ORGANIZER;CN="Naturschutzstation%20Hahneberg":MAILTO:mail@naturschutzstation-hahneberg.de
END:VEVENT
BEGIN:VEVENT
DTSTART;TZID=Europe/Berlin:20220721T160000
DTEND;TZID=Europe/Berlin:20220721T180000
DTSTAMP:20260422T044441
CREATED:20220520T072249Z
LAST-MODIFIED:20220719T071133Z
UID:8765-1658419200-1658426400@naturschutzstation-hahneberg.de
SUMMARY:Die Naturentdecker vom Hahneberg 8-10 Jahre
DESCRIPTION:+++ Der Termin fällt krankheitsbedingt aus +++\nIhr wolltet schon immer mal:\n• wissen\, ob Füchse und Kaninchen Schuhe tragen und auf Bäumen leben?\n• herausfinden\, ob Nashornkäfer Hörner am Po haben?\n• ausprobieren\, ob man Brennnesseln und anderes Grünzeug essen kann?\nDann seid ihr richtig in der Naturentdeckerwerkstatt an der Naturschutzstation Hahneberg!\nThema heute: Schleichen\, Lauschen\, Staunen: Taucht ein in die wilde Sommernatur am Hahneberg \nSagt euren Eltern schnell Bescheid\, dass Sie euch für den nächsten Termin bei uns anmelden\, unter 030/26300787 oder per Mail an herwig@lpvspandau.onmicrosoft.com. Die Veranstaltung ist kostenlos\, über eine Spende freuen wir uns aber sehr! Wir bitten um wettertaugliche Kleidung.
URL:https://naturschutzstation-hahneberg.de/event/die-naturentdecker-vom-hahneberg-8-10-jahre-3/
LOCATION:Naturschutzstation Hahneberg\, Heerstr. 549\, Berlin\, 13593\, Deutschland
CATEGORIES:Naturpäd. Programm
ATTACH;FMTTYPE=image/jpeg:https://naturschutzstation-hahneberg.de/wp-content/uploads/2022/04/Frisch.jpg
ORGANIZER;CN="Naturschutzstation%20Hahneberg":MAILTO:mail@naturschutzstation-hahneberg.de
END:VEVENT
BEGIN:VEVENT
DTSTART;TZID=Europe/Berlin:20220722T163000
DTEND;TZID=Europe/Berlin:20220722T173000
DTSTAMP:20260422T044441
CREATED:20220427T073559Z
LAST-MODIFIED:20220427T073600Z
UID:8722-1658507400-1658511000@naturschutzstation-hahneberg.de
SUMMARY:Märchenwanderung am Hahneberg
DESCRIPTION:Wandern Sie mit dem Märchenerzähler Grannus durch die verwunschene Landschaft des Hahnebergs und lassen Sie sich für eine Stunde in die Welt der Fabelwesen entführen. Der Spaziergang endet an einem Märchenpfad\, der liebevoll von Kindern mit selbst gebauten Fabelwesen gestaltet wurde. Das Angebot richtet sich vor allem an Familien\, aber auch an neugierige Erwachsene. \nDie Teilnehmerzahl ist begrenzt. Anmeldung erforderlich unter mail@naturschutzstation-hahneberg.de oder unter 030/263 007 87. Die Führung ist kostenlos\, über eine Spende freuen wir uns aber sehr!\nWir bitten um wettertaugliche Kleidung und behalten uns coronabedingte Änderungen vor. \nWo: Treffpunkt an der Naturschutzstation Hahneberg\, Heerstraße 549 in 13593 Berlin.
URL:https://naturschutzstation-hahneberg.de/event/maerchenwanderung-am-hahneberg-9/
LOCATION:Naturschutzstation Hahneberg\, Heerstr. 549\, Berlin\, 13593\, Deutschland
CATEGORIES:Spaziergang
ATTACH;FMTTYPE=image/png:https://naturschutzstation-hahneberg.de/wp-content/uploads/2020/06/Märchenwald.png
ORGANIZER;CN="Naturschutzstation%20Hahneberg":MAILTO:mail@naturschutzstation-hahneberg.de
END:VEVENT
BEGIN:VEVENT
DTSTART;TZID=Europe/Berlin:20220723T100000
DTEND;TZID=Europe/Berlin:20220723T120000
DTSTAMP:20260422T044441
CREATED:20220208T100252Z
LAST-MODIFIED:20220208T100253Z
UID:8570-1658570400-1658577600@naturschutzstation-hahneberg.de
SUMMARY:Wildkräuterführung am Hahneberg
DESCRIPTION:Schwerpunkt Essbare Pflanzen und Heilpflanzen. Entdecken Sie in einer zweistündigen Wanderung durch die abwechslungsreiche Flora des Geländes rund um den Hahneberg botanische Raritäten und küchentaugliches Wildobst- oder gemüse. Gemeinsam mit unserer Kräuterexpertin Frau Komischke\, die Ihr umfangreiches Wissen über Heilwirkungen\, Verwendung und Inhaltsstoffe mit Ihnen teilt\, wandern Sie über den ehemaligen Grenzstreifen hinauf zum neuen Hahneberg. Dort werden Sie mit einem weiten Blick über die Stadt\, aber auch vielen neuen Erkenntnissen belohnt. \nDie Teilnehmerzahl ist begrenzt. Anmeldung bis zwei Werktage vor der Führung erforderlich unter mail@naturschutzstation-hahneberg.de oder unter 030/263 007 87. Die Führung ist kostenlos\, über eine Spende freuen wir uns aber sehr! \nKondition für eine 2-stündige Wanderung erforderlich. Wir bitten um wettertaugliche Kleidung. Bitte informieren Sie sich im Vorfeld über die geltenden Coronaregelungen für Veranstaltungen im Freien. \nTreffpunkt: Naturschutzstation Hahneberg\, Heerstr. 549\, 13593 Berlin.
URL:https://naturschutzstation-hahneberg.de/event/wildkraeuterfuehrung-am-hahneberg-10/
LOCATION:Naturschutzstation Hahneberg\, Heerstr. 549\, Berlin\, 13593\, Deutschland
CATEGORIES:Führung
ATTACH;FMTTYPE=image/jpeg:https://naturschutzstation-hahneberg.de/wp-content/uploads/2020/05/Knoblauchsrauke.jpg
ORGANIZER;CN="Naturschutzstation%20Hahneberg":MAILTO:mail@naturschutzstation-hahneberg.de
END:VEVENT
BEGIN:VEVENT
DTSTART;TZID=Europe/Berlin:20220723T140000
DTEND;TZID=Europe/Berlin:20220723T170000
DTSTAMP:20260422T044441
CREATED:20220629T105424Z
LAST-MODIFIED:20220629T105425Z
UID:8799-1658584800-1658595600@naturschutzstation-hahneberg.de
SUMMARY:Ringelblumen-Workshop 1
DESCRIPTION:Ringelrose\, Morgenröte\, Kalenderblume\nBekannt auch unter dem Namen Ringelblume… \nDiese hübsche und unscheinbare „Allerweltspflanze“\, die Manchen sogar als Unkraut gilt\, hat es wirklich in sich: mit ihren fröhlichen Farben passt die anspruchslose Blume in fast jeden Garten\, ihre heilende Wirkung ist v.a. durch die enthaltenen entzündungshemmenden Stoffe über die Jahrhunderte Bestens dokumentiert\, aber auch in der Sommerküche hat sie ihren festen Platz.  \nIn diesem Workshop erfahren wir nicht nur so manches Interessante\, Wissenswerte und Kuriose aus dem „Leben“ dieser vielfältigen Pflanze\, sondern lernen sie auch ganz praktisch kennen &#8211; z.B. bei der Herstellung eines pflegenden Hautöls oder bei der Zusammenstellung einer wohlschmeckenden Teemischung.  \nDiese Veranstaltung findet in Kooperation mit der VHS Spandau statt. Bitte buchen Sie den Kurs über folgenden Link: https://www.vhsit.berlin.de/VHSKURSE/BusinessPages/CourseDetail.aspx?id=639952 \nEntgeld: 10.60 Euro / Ermäßigt: 5.30 Euro
URL:https://naturschutzstation-hahneberg.de/event/ringelblumen-workshop-1/
LOCATION:Naturschutzstation Hahneberg\, Heerstr. 549\, Berlin\, 13593\, Deutschland
CATEGORIES:Workshop
ATTACH;FMTTYPE=image/jpeg:https://naturschutzstation-hahneberg.de/wp-content/uploads/2022/06/Ringelblumenbild-Veranstaltungsankuendigung-VHS.jpg
ORGANIZER;CN="Naturschutzstation%20Hahneberg":MAILTO:mail@naturschutzstation-hahneberg.de
END:VEVENT
END:VCALENDAR