BEGIN:VCALENDAR
VERSION:2.0
PRODID:-//Naturschutzstation Hahneberg - ECPv5.7.0//NONSGML v1.0//EN
CALSCALE:GREGORIAN
METHOD:PUBLISH
X-WR-CALNAME:Naturschutzstation Hahneberg
X-ORIGINAL-URL:https://naturschutzstation-hahneberg.de
X-WR-CALDESC:Events for Naturschutzstation Hahneberg
BEGIN:VTIMEZONE
TZID:Europe/Berlin
BEGIN:DAYLIGHT
TZOFFSETFROM:+0100
TZOFFSETTO:+0200
TZNAME:CEST
DTSTART:20220327T010000
END:DAYLIGHT
BEGIN:STANDARD
TZOFFSETFROM:+0200
TZOFFSETTO:+0100
TZNAME:CET
DTSTART:20221030T010000
END:STANDARD
END:VTIMEZONE
BEGIN:VEVENT
DTSTART;TZID=Europe/Berlin:20220804T160000
DTEND;TZID=Europe/Berlin:20220804T180000
DTSTAMP:20260422T002820
CREATED:20220718T080810Z
LAST-MODIFIED:20220718T080811Z
UID:8824-1659628800-1659636000@naturschutzstation-hahneberg.de
SUMMARY:Die Naturentdecker vom Hahneberg 6-10 Jahre - Insektensommer
DESCRIPTION:Ihr wolltet schon immer mal:\n• wissen\, ob Füchse und Kaninchen Schuhe tragen und auf Bäumen leben?\n• herausfinden\, ob Nashornkäfer Hörner am Po haben?\n• ausprobieren\, ob man Brennnesseln und anderes Grünzeug essen kann?\nDann seid ihr richtig in der Naturentdeckerwerkstatt an der Naturschutzstation Hahneberg! \nThema Insektensommer:  Wir schließen uns der Aktion &#8221; Insektensommer&#8221; des NABU an https://www.nabu.de/tiere-und-pflanzen/aktionen-und-projekte/insektensommer/index.html und suchen sowohl nach schillernden als auch unauffälligeren krabbelnden und fliegenden Sechsbeinern&#8230;  \nSagt euren Eltern schnell Bescheid\, dass Sie euch für den nächsten Termin bei uns anmelden\, unter 030/26300787 oder per Mail an herwig@lpvspandau.onmicrosoft.com. Die Veranstaltung ist kostenlos\, über eine Spende freuen wir uns aber sehr! Wir bitten um wettertaugliche Kleidung.
URL:https://naturschutzstation-hahneberg.de/event/die-naturentdecker-vom-hahneberg-6-10-jahre-insektensommer/
LOCATION:Naturschutzstation Hahneberg\, Heerstr. 549\, Berlin\, 13593\, Deutschland
CATEGORIES:Naturpäd. Programm
ATTACH;FMTTYPE=image/jpeg:https://naturschutzstation-hahneberg.de/wp-content/uploads/2022/07/P1060483-scaled.jpg
ORGANIZER;CN="Naturschutzstation%20Hahneberg":MAILTO:mail@naturschutzstation-hahneberg.de
END:VEVENT
BEGIN:VEVENT
DTSTART;TZID=Europe/Berlin:20220805T150000
DTEND;TZID=Europe/Berlin:20220805T173000
DTSTAMP:20260422T002820
CREATED:20220707T080305Z
LAST-MODIFIED:20220707T080305Z
UID:8809-1659711600-1659720600@naturschutzstation-hahneberg.de
SUMMARY:Wo die wilden Bienen wohnen
DESCRIPTION:Unter dem diesjährigen Motto „Wo die wilden Bienen wohnen“ laden wir wieder alle Bürger*innen herzlich ein\, mit den Expert*innen der Aurelia Stiftung auf Wildbienen-Entdeckungstour in Berlin zu gehen. Ergänzt werden die geführten Exkursionen durch spannende Online-Seminare und Workshops. Unter www.aurelia-stiftung.de finden Sie alle Termine sowie Infos zur kostenfreien Teilnahme! \nChristian Lichtenau wird Sie gemeinsam mit dem Wildbienen-Experten Frederik Rothe zu den arten- & blütenreichen Flächen am Hahneberg führen. Das Ziel der unterhaltsamen wie informativen Veranstaltung ist\, den Teilnehmenden unsere heimischen Wildbienenarten in ihrem Habitat hautnah zu präsentieren und mit Ihnen über die Ökologie und Schutzbedürfnisse der Wildbienen ins Gespräch zu kommen. \nDer Treffpunkt ist an der Naturschutzstation Hahneberg. Die Teilnahme ist kostenfrei\, wir freuen uns aber über eine Spende für das Projekt.\nEine Anmeldung per Email an wildbienen-erlebnisse@aurelia-stiftung.de oder unter 030 577 00 39 61 ist erforderlich.\nWeitere Informationen zum Ablauf bekommen Sie nach erfolgter Anmeldung per E-Mail.
URL:https://naturschutzstation-hahneberg.de/event/wo-die-wilden-bienen-wohnen-2/
LOCATION:Naturschutzstation Hahneberg\, Heerstr. 549\, Berlin\, 13593\, Deutschland
CATEGORIES:Führung
ATTACH;FMTTYPE=image/jpeg:https://naturschutzstation-hahneberg.de/wp-content/uploads/2022/06/IMG_0781_1-scaled-e1656499567140.jpg
ORGANIZER;CN="Naturschutzstation%20Hahneberg":MAILTO:mail@naturschutzstation-hahneberg.de
END:VEVENT
BEGIN:VEVENT
DTSTART;TZID=Europe/Berlin:20220806T140000
DTEND;TZID=Europe/Berlin:20220806T160000
DTSTAMP:20260422T002820
CREATED:20220629T105752Z
LAST-MODIFIED:20220721T120800Z
UID:8802-1659794400-1659801600@naturschutzstation-hahneberg.de
SUMMARY:Ringelblumen-Workshop 2
DESCRIPTION:Goldblume\, Regenblume\, Dotterblume\noder: wie die Ringelblume zu ihren verschiedenen Namen kam… \nIn den verschiedenen Bezeichnungen für diese „Allerweltspflanze“ steckt Einiges an Pflanzenwissen\, das über die Jahrhunderte gut dokumentiert ist.\nAnhand der verschiedenen Namen erfahren wir so manches Interessante\, Kuriose und Wissenswerte aus der „Geschichte“ und über die Eigenschaften einer unserer ältesten Kulturpflanzen:\nWarum z.B. trägt sie im lateinischen den Namen „Calendula“?\nMit welchen „Verwandten“ im Garten wird sie gerne verwechselt?\nUnd warum gilt die &#8211; hierzulande bereits seit Jahrhunderten ansässige &#8211; Pflanze dennoch als Neophyt („Neuling“)? \nZwischendurch wird´s praktisch &#8211; z.B. beim Ansetzen eines pflegenden Öls oder dem Herstellen einer kleinen Leckerei aus den farbigen Blüten.\nWer möchte\, kann am Ende auch kreativ werden und ein kleines „Bild“ aus den Blüten gestalten &#8211; ganz ohne Stifte und künstlerische Vorkenntnisse…  \nDiese Veranstaltung ist kostenfrei. Eine Voranmeldung ist über die Naturschutzstation Hahneberg ist erforderlich.
URL:https://naturschutzstation-hahneberg.de/event/ringelblumen-workshop-2/
LOCATION:Naturschutzstation Hahneberg\, Heerstr. 549\, Berlin\, 13593\, Deutschland
CATEGORIES:Workshop
ATTACH;FMTTYPE=image/jpeg:https://naturschutzstation-hahneberg.de/wp-content/uploads/2022/06/Ringelblumenveranstaltung-Station.jpg
ORGANIZER;CN="Naturschutzstation%20Hahneberg":MAILTO:mail@naturschutzstation-hahneberg.de
END:VEVENT
BEGIN:VEVENT
DTSTART;TZID=Europe/Berlin:20220810T163000
DTEND;TZID=Europe/Berlin:20220810T180000
DTSTAMP:20260422T002820
CREATED:20220706T123229Z
LAST-MODIFIED:20220706T123230Z
UID:8805-1660149000-1660154400@naturschutzstation-hahneberg.de
SUMMARY:Schäferführung am Hahneberg
DESCRIPTION:Erfahren Sie bei einer 90-minütigen Führung mit Schäfer Alexander Beer viele spannende Details über die alte Hautierrasse Rauhwolliges Pommersches Landschaf und den Einsatz von Schafen für die Landschaftspflege am Hahneberg. Wofür gibt es eigentlich Hütehunde und wieviele Lämmchen wurden schon in diesem Jahr geboren? \nDie Teilnehmerzahl ist begrenzt. Anmeldung bis zwei Werktage vor der Führung erforderlich unter mail@naturschutzstation-hahneberg.de oder unter 030/263 007 87. Die Führung ist kostenlos\, über eine Spende freuen wir uns aber sehr! Wir bitten um wettertaugliche Kleidung und behalten uns coronabedingte Änderungen vor.
URL:https://naturschutzstation-hahneberg.de/event/schaeferfuehrung-am-hahneberg/
LOCATION:Naturschutzstation Hahneberg\, Heerstr. 549\, Berlin\, 13593\, Deutschland
CATEGORIES:Führung
ATTACH;FMTTYPE=image/jpeg:https://naturschutzstation-hahneberg.de/wp-content/uploads/2021/03/Lämmchen_Mama_2-1-scaled.jpg
ORGANIZER;CN="Naturschutzstation%20Hahneberg":MAILTO:mail@naturschutzstation-hahneberg.de
END:VEVENT
BEGIN:VEVENT
DTSTART;TZID=Europe/Berlin:20220811T160000
DTEND;TZID=Europe/Berlin:20220811T180000
DTSTAMP:20260422T002820
CREATED:20220718T081133Z
LAST-MODIFIED:20220718T081134Z
UID:8827-1660233600-1660240800@naturschutzstation-hahneberg.de
SUMMARY:Die Naturentdecker vom Hahneberg 6-10 Jahre - Insektensommer
DESCRIPTION:Ihr wolltet schon immer mal:\n• wissen\, ob Füchse und Kaninchen Schuhe tragen und auf Bäumen leben?\n• herausfinden\, ob Nashornkäfer Hörner am Po haben?\n• ausprobieren\, ob man Brennnesseln und anderes Grünzeug essen kann?\nDann seid ihr richtig in der Naturentdeckerwerkstatt an der Naturschutzstation Hahneberg! \nThema Insektensommer: Wir schließen uns der Aktion ” Insektensommer” des NABU an https://www.nabu.de/tiere-und-pflanzen/aktionen-und-projekte/insektensommer/index.html und suchen sowohl nach schillernden als auch unauffälligeren krabbelnden und fliegenden Sechsbeinern… \nSagt euren Eltern schnell Bescheid\, dass Sie euch für den nächsten Termin bei uns anmelden\, unter 030/26300787 oder per Mail an herwig@lpvspandau.onmicrosoft.com. Die Veranstaltung ist kostenlos\, über eine Spende freuen wir uns aber sehr! Wir bitten um wettertaugliche Kleidung.
URL:https://naturschutzstation-hahneberg.de/event/die-naturentdecker-vom-hahneberg-6-10-jahre-insektensommer-2/
LOCATION:Naturschutzstation Hahneberg\, Heerstr. 549\, Berlin\, 13593\, Deutschland
CATEGORIES:Naturpäd. Programm
ATTACH;FMTTYPE=image/jpeg:https://naturschutzstation-hahneberg.de/wp-content/uploads/2022/07/P1060527-scaled.jpg
ORGANIZER;CN="Naturschutzstation%20Hahneberg":MAILTO:mail@naturschutzstation-hahneberg.de
END:VEVENT
BEGIN:VEVENT
DTSTART;TZID=Europe/Berlin:20220813T150000
DTEND;TZID=Europe/Berlin:20220813T180000
DTSTAMP:20260422T002820
CREATED:20220707T083018Z
LAST-MODIFIED:20220721T143537Z
UID:8811-1660402800-1660413600@naturschutzstation-hahneberg.de
SUMMARY:Schäferführung mit anschließendem Filzen
DESCRIPTION:Ein Nachmittag ganz im Zeichen unserer Spandauer Rauhwolligen Pommerschen Landschafe\, einer sehr alten und gefährdeten Rasse! Entdecken Sie mit unserem Schäfer Alexander Beer im ersten Teil der Veranstaltung die Welt der Schafe und ihre Bedeutung als “Landschaftspfleger&#8221;. Erfahren Sie mehr zum Beruf des Schäfers\, der Lebensweise der Tiere\, den Aufgaben eines Hütehundes und besuchen Sie unsere Schafe auf der Weide. Im zweiten Teil nähern Sie sich praktisch und handwerklich den Schafen an\, indem Sie die Gelegenheit haben mit Schafswolle zu arbeiten. Gemeinsam mit der Künstlerin Brigitte Kriesel lernen Sie die Grundtechniken des Nassfilzen und können\, je nach eigener bereits vorhandener Erfahrung\, ein Sitzkissen\, einen Ball oder eine andere kreative Filzfigur mit nach Hause nehmen.   \nBitte denken Sie an wetterfeste Kleidung und festes Schuhwerk. Wir freuen uns über eine kleine Spende als Beitrag zum Material in Höhe von 2 Euro.\nTreffpunkt Naturschutzstation Hahneberg\, Heerstr. 549\, 13593 Berlin. Bus (M37\, X49/M49)\, die Haltestelle Hahneberg liegt fast direkt vor der Tür.\nEntgelt: 10.80 EUR Ermäßigt: 5.40 EUR \nDie Anmeldung erfolgt über die VHS Spandau unter folgendem Link: https://www.vhsit.berlin.de/VHSKURSE/BusinessPages/CourseDetail.aspx?id=639899
URL:https://naturschutzstation-hahneberg.de/event/schaeferfuehrung-mit-anschliessendem-filzen/
LOCATION:Naturschutzstation Hahneberg\, Heerstr. 549\, Berlin\, 13593\, Deutschland
CATEGORIES:Führung,Workshop
ATTACH;FMTTYPE=image/jpeg:https://naturschutzstation-hahneberg.de/wp-content/uploads/2021/03/Lämmchen_Mama_2-1-scaled.jpg
ORGANIZER;CN="Naturschutzstation%20Hahneberg":MAILTO:mail@naturschutzstation-hahneberg.de
END:VEVENT
BEGIN:VEVENT
DTSTART;TZID=Europe/Berlin:20220820T100000
DTEND;TZID=Europe/Berlin:20220820T120000
DTSTAMP:20260422T002820
CREATED:20220208T100605Z
LAST-MODIFIED:20220208T100605Z
UID:8572-1660989600-1660996800@naturschutzstation-hahneberg.de
SUMMARY:Wildkräuterführung am Hahneberg
DESCRIPTION:Schwerpunkt Essbare Pflanzen und Heilpflanzen. Entdecken Sie in einer zweistündigen Wanderung durch die abwechslungsreiche Flora des Geländes rund um den Hahneberg botanische Raritäten und küchentaugliches Wildobst- oder gemüse. Gemeinsam mit unserer Kräuterexpertin Frau Komischke\, die Ihr umfangreiches Wissen über Heilwirkungen\, Verwendung und Inhaltsstoffe mit Ihnen teilt\, wandern Sie über den ehemaligen Grenzstreifen hinauf zum neuen Hahneberg. Dort werden Sie mit einem weiten Blick über die Stadt\, aber auch vielen neuen Erkenntnissen belohnt. \nDie Teilnehmerzahl ist begrenzt. Anmeldung bis zwei Werktage vor der Führung erforderlich unter mail@naturschutzstation-hahneberg.de oder unter 030/263 007 87. Die Führung ist kostenlos\, über eine Spende freuen wir uns aber sehr! \nKondition für eine 2-stündige Wanderung erforderlich. Wir bitten um wettertaugliche Kleidung. Bitte informieren Sie sich im Vorfeld über die geltenden Coronaregelungen für Veranstaltungen im Freien. \nTreffpunkt: Naturschutzstation Hahneberg\, Heerstr. 549\, 13593 Berlin.
URL:https://naturschutzstation-hahneberg.de/event/wildkraeuterfuehrung-am-hahneberg-11/
LOCATION:Naturschutzstation Hahneberg\, Heerstr. 549\, Berlin\, 13593\, Deutschland
CATEGORIES:Führung
ATTACH;FMTTYPE=image/jpeg:https://naturschutzstation-hahneberg.de/wp-content/uploads/2020/05/Hain-Ehrenpreis.jpg
ORGANIZER;CN="Naturschutzstation%20Hahneberg":MAILTO:mail@naturschutzstation-hahneberg.de
END:VEVENT
BEGIN:VEVENT
DTSTART;TZID=Europe/Berlin:20220823T173000
DTEND;TZID=Europe/Berlin:20220823T184500
DTSTAMP:20260422T002820
CREATED:20220721T094958Z
LAST-MODIFIED:20220823T090318Z
UID:8844-1661275800-1661280300@naturschutzstation-hahneberg.de
SUMMARY:Sommeryoga in der Natur
DESCRIPTION:Erlebe Entspannung und Entschleunigung in Bewegung. Finde innere Ruhe\, Gelassenheit und neue Lebensfreue. Es sind keinerlei Vorkenntnisse notwendig\, es genügt offen zu sein. \nKursleiterin: Bettina Flint von Raum für Yoga und Meditation\nKosten: 25€ pro Terminreihe (2 Termine) \nTerminreihe C:\nDi 23.08.22\, 17:30-18:45\nDi 30.08.22\, 17:30-18:45 \nWo: Naturschutzstation Hahneberg\, Heerstr. 549\, 13593 Berlin \nDie Teilnehmerzahl ist begrenzt. Anmeldung bitte verbindlich jeweils 2 Werktage vor Beginn der Terminreihe telefonisch unter 0178/2363 496\, oder per E-Mail an bettinaflint@raum-fuer-yoga-und-meditation.de. Wir behalten uns coronabedingte Änderungen vor.\nBitte bringe eine Yogamatte\, Decke\, Sitzkissen und bequeme Kleidung mit.
URL:https://naturschutzstation-hahneberg.de/event/sommeryoga-in-der-natur-10/
LOCATION:Naturschutzstation Hahneberg\, Heerstr. 549\, Berlin\, 13593\, Deutschland
CATEGORIES:Kurs
ATTACH;FMTTYPE=image/jpeg:https://naturschutzstation-hahneberg.de/wp-content/uploads/2022/06/IMG_20200929_171234-scaled.jpg
ORGANIZER;CN="Naturschutzstation%20Hahneberg":MAILTO:mail@naturschutzstation-hahneberg.de
END:VEVENT
BEGIN:VEVENT
DTSTART;TZID=Europe/Berlin:20220830T173000
DTEND;TZID=Europe/Berlin:20220830T190000
DTSTAMP:20260422T002820
CREATED:20220721T095139Z
LAST-MODIFIED:20220721T095140Z
UID:8846-1661880600-1661886000@naturschutzstation-hahneberg.de
SUMMARY:Sommeryoga in der Natur
DESCRIPTION:Erlebe Entspannung und Entschleunigung in Bewegung. Finde innere Ruhe\, Gelassenheit und neue Lebensfreue. Es sind keinerlei Vorkenntnisse notwendig\, es genügt offen zu sein. \nKursleiterin: Bettina Flint von Raum für Yoga und Meditation\nKosten: 25€ pro Terminreihe (2 Termine) \nTerminreihe C:\nDi 23.08.22\, 17:30-19:00\nDi 30.08.22\, 17:30-19:00 \nWo: Naturschutzstation Hahneberg\, Heerstr. 549\, 13593 Berlin \nDie Teilnehmerzahl ist begrenzt. Anmeldung bitte verbindlich jeweils 2 Werktage vor Beginn der Terminreihe telefonisch unter 0178/2363 496\, oder per E-Mail an bettinaflint@raum-fuer-yoga-und-meditation.de. Wir behalten uns coronabedingte Änderungen vor.\nBitte bringe eine Yogamatte\, Decke\, Sitzkissen und bequeme Kleidung mit.
URL:https://naturschutzstation-hahneberg.de/event/sommeryoga-in-der-natur-11/
LOCATION:Naturschutzstation Hahneberg\, Heerstr. 549\, Berlin\, 13593\, Deutschland
CATEGORIES:Kurs
ATTACH;FMTTYPE=image/jpeg:https://naturschutzstation-hahneberg.de/wp-content/uploads/2022/06/IMG_20200929_171234-scaled.jpg
ORGANIZER;CN="Naturschutzstation%20Hahneberg":MAILTO:mail@naturschutzstation-hahneberg.de
END:VEVENT
END:VCALENDAR