BEGIN:VCALENDAR
VERSION:2.0
PRODID:-//Naturschutzstation Hahneberg - ECPv5.7.0//NONSGML v1.0//EN
CALSCALE:GREGORIAN
METHOD:PUBLISH
X-WR-CALNAME:Naturschutzstation Hahneberg
X-ORIGINAL-URL:https://naturschutzstation-hahneberg.de
X-WR-CALDESC:Events for Naturschutzstation Hahneberg
BEGIN:VTIMEZONE
TZID:Europe/Berlin
BEGIN:DAYLIGHT
TZOFFSETFROM:+0100
TZOFFSETTO:+0200
TZNAME:CEST
DTSTART:20240331T010000
END:DAYLIGHT
BEGIN:STANDARD
TZOFFSETFROM:+0200
TZOFFSETTO:+0100
TZNAME:CET
DTSTART:20241027T010000
END:STANDARD
END:VTIMEZONE
BEGIN:VEVENT
DTSTART;TZID=Europe/Berlin:20241221T130000
DTEND;TZID=Europe/Berlin:20241221T160000
DTSTAMP:20260420T160454
CREATED:20240821T090829Z
LAST-MODIFIED:20241115T130434Z
UID:10280-1734786000-1734796800@naturschutzstation-hahneberg.de
SUMMARY:Winter-Wanderung im Dezember
DESCRIPTION:FÃ¼r etwa 3 Stunden gemeinsam wandern/spazieren in der Natur von Berlin-Spandau. Ganz entspannt Ã¼ber 10.000 Schritte erreichen und nebenbei etwas zu einem Naturthema erfahren.\nIm Dezember\, kurz vor Weihnachten befassen wir uns bei der Wanderung mit Pflanzen und Tieren\, die wir mit Weihnachten verbinden. \nKursleiterin: Dr. Mireille Staschok \nWir bitten um wetterfeste Kleidung und festes\, bequemes Schuhwerk. Die Kondition fÃ¼r eine Wanderung von 8-9 km sollte vorhanden sein. \nDie Anmeldung erfolgt unter Angabe der Kursnummer Sp1.400-H Ã¼ber die Volkshochschule Spandau. \nTel.: 90279 5000 Fax.: 90279 5001 E-Mail: info@vhs-spandau.de\, http://https://www.vhsit.berlin.de/VHSKURSE/BusinessPages/CourseDetail.aspx?id=733071 \nKosten: 11.20 EURâ‚¬ pro Person (erm: 5.60 EURâ‚¬) \nEs handelt sich um eine Rundwanderung.\nTreffpunkt und Endpunkt: Naturschutzstation Hahneberg\, Heerstr. 549\, 13593 Berlin\, erreichbar mit Ã¶ffentlichen Verkehrsmitteln (Bus M37\, X49\, M49; Haltestelle Hahneber \n  \n 
URL:https://naturschutzstation-hahneberg.de/event/wanderung-im-dezember-2/
LOCATION:Naturschutzstation Hahneberg\, Heerstr. 549\, Berlin\, 13593\, Deutschland
CATEGORIES:Wanderung
ATTACH;FMTTYPE=image/jpeg:https://naturschutzstation-hahneberg.de/wp-content/uploads/2024/08/Stechpalme.jpg
END:VEVENT
BEGIN:VEVENT
DTSTART;TZID=Europe/Berlin:20241224T150000
DTEND;TZID=Europe/Berlin:20241224T160000
DTSTAMP:20260420T160454
CREATED:20240118T095613Z
LAST-MODIFIED:20240118T095952Z
UID:9869-1735052400-1735056000@naturschutzstation-hahneberg.de
SUMMARY:Krippenspiel im Schafstall der Naturschutzstation
DESCRIPTION:Bereits zum dritten Mal wird es auch in diesem Jahr am Nachmittag des 24.12. wieder ein Krippenspiel im Schafstall der Naturschutzstation in Kooperation mit der Kirchengemeinde zu Staaken geben\, bei dem die traditionelle biblische Weihnachtsgeschichte von Kindern und Jugendlichen vorgelesen und gespielt wird.\nWir freuen uns sehr darauf diese schÃ¶ne Tradition erneut auch in diesem Jahr vor malerischer Kulisse fortzufÃ¼hren und sind gespannt wie viele Menschen am Heiligen Abend den Weg in den Schafstall finden.\nSeid mit dabei und erlebt ein einzigartiges Weihnachten hier bei uns im Schafstall zwischen Heu und Stroh!
URL:https://naturschutzstation-hahneberg.de/event/krippenspiel-im-schafstall-der-naturschutzstation-2/
LOCATION:Naturschutzstation Hahneberg\, Heerstr. 549\, Berlin\, 13593\, Deutschland
CATEGORIES:Fest
ATTACH;FMTTYPE=image/jpeg:https://naturschutzstation-hahneberg.de/wp-content/uploads/2023/02/Krippe.jpg
ORGANIZER;CN="Naturschutzstation%20Hahneberg":MAILTO:mail@naturschutzstation-hahneberg.de
END:VEVENT
END:VCALENDAR