BEGIN:VCALENDAR
VERSION:2.0
PRODID:-//Naturschutzstation Hahneberg - ECPv5.7.0//NONSGML v1.0//EN
CALSCALE:GREGORIAN
METHOD:PUBLISH
X-WR-CALNAME:Naturschutzstation Hahneberg
X-ORIGINAL-URL:https://naturschutzstation-hahneberg.de
X-WR-CALDESC:Events for Naturschutzstation Hahneberg
BEGIN:VTIMEZONE
TZID:Europe/Berlin
BEGIN:DAYLIGHT
TZOFFSETFROM:+0100
TZOFFSETTO:+0200
TZNAME:CEST
DTSTART:20250330T010000
END:DAYLIGHT
BEGIN:STANDARD
TZOFFSETFROM:+0200
TZOFFSETTO:+0100
TZNAME:CET
DTSTART:20251026T010000
END:STANDARD
END:VTIMEZONE
BEGIN:VEVENT
DTSTART;TZID=Europe/Berlin:20250321T160000
DTEND;TZID=Europe/Berlin:20250321T170000
DTSTAMP:20260420T200947
CREATED:20250217T112127Z
LAST-MODIFIED:20250217T125405Z
UID:10547-1742572800-1742576400@naturschutzstation-hahneberg.de
SUMMARY:Märchenwanderung am Hahneberg
DESCRIPTION:Wandert mit dem Märchenerzähler Steinkauz durch die verwunschene Landschaft des Hahnebergs und lasst euch für eine Stunde in die Welt der Fabelwesen entführen. Der Spaziergang endet an einem Märchenpfad\, der liebevoll von Kindern mit selbst gebauten Fabelwesen gestaltet wurde. Das Angebot richtet sich vor allem an Familien\, aber auch an neugierige Erwachsene. \nDie Teilnehmerzahl ist begrenzt. Anmeldung erforderlich unter mail@naturschutzstation-hahneberg.de oder unter 030/263 007 87. \nDie Führung ist kostenfrei\, über eine Spende freuen wir uns aber sehr! \nWir bitten um wettertaugliche Kleidung und festes\, bequemes Schuhwerk. \nWo: Treffpunkt an der Naturschutzstation Hahneberg\, Heerstraße 549 in 13593 Berlin.
URL:https://naturschutzstation-hahneberg.de/event/maerchenwanderung-am-hahneberg-21/
LOCATION:Naturschutzstation Hahneberg\, Heerstr. 549\, Berlin\, 13593\, Deutschland
CATEGORIES:Spaziergang
ATTACH;FMTTYPE=image/jpeg:https://naturschutzstation-hahneberg.de/wp-content/uploads/2024/01/Froschkoenig.jpg
ORGANIZER;CN="Naturschutzstation%20Hahneberg":MAILTO:mail@naturschutzstation-hahneberg.de
END:VEVENT
BEGIN:VEVENT
DTSTART;TZID=Europe/Berlin:20250322T150000
DTEND;TZID=Europe/Berlin:20250322T180000
DTSTAMP:20260420T200947
CREATED:20250117T074452Z
LAST-MODIFIED:20250117T074453Z
UID:10450-1742655600-1742666400@naturschutzstation-hahneberg.de
SUMMARY:Frühlingswanderung am Hahneberg
DESCRIPTION:Für etwa 3 Stunden gemeinsam wandern/spazieren in der Natur von Berlin &#8211; Spandau und ganz entspannt über 10.000 Schritte erreichen.\nDie Wanderung findet einen Tag nach dem kalendarischen Frühlingsanfang statt.\nBei dieser Wanderung gibt es außer der wirklich erstaunlich schönen und abwechslungsreichen Landschaft Spandaus auch einiges zum Thema Frühling und Natur zu erfahren:\nWelche Frühlingsblüher sehen wir? Welche Bäume treiben bereits aus ?\nSind bereits Schmetterlinge zu entdecken und wenn ja welche und warum gerade diese ? Welche Zugvögel kehren zuerst zurück? \nKursleiterin: Dr. Mireille Staschok \nKosten: 11\,20 Euro\, erm. 5\,60 Euro \nDie Anmeldung erfolgt unter Angabe der Kursnummer Sp1.401-W über die Volkshochschule Spandau. \nTel.: 90279 5000 Fax.: 90279 5001 E-Mail: info@vhs-spandau.de\, http://www.vhs-spandau.de \n\n\n\n\n\n\n\n\nWir bitten um wetterfeste Kleidung und festes\, bequemes Schuhwerk. Die notwendige Kondition für eine 3 &#8211; stündige Wanderung (meist 8 &#8211; 9 km) sollte vorhanden sein.\nTreffpunkt : 15:00 Uhr Naturschutzstation Hahneberg\, Heerstr. 549\,13593 Berlin. Anreise mit öffentlichen Verkehrsmitteln: Bus M37\, X49\, M49 (Haltestelle Hahneberg) \nDies ist keine Rundwanderung! Endpunkt: Haltestelle Alt- Pichelsdorf\, Bus X34\, M36\,  X49\, M49.    Ende ca. 18:00 Uhr \nhttps://www.vhsit.berlin.de/VHSKURSE/BusinessPages/CourseDetail.aspx?id=740263
URL:https://naturschutzstation-hahneberg.de/event/fruehlingswanderung-am-hahneberg/
LOCATION:Naturschutzstation Hahneberg\, Heerstr. 549\, Berlin\, 13593\, Deutschland
CATEGORIES:Wanderung
ATTACH;FMTTYPE=image/jpeg:https://naturschutzstation-hahneberg.de/wp-content/uploads/2025/01/Fruehling-Maerz.jpg
END:VEVENT
BEGIN:VEVENT
DTSTART;TZID=Europe/Berlin:20250323T100000
DTEND;TZID=Europe/Berlin:20250323T120000
DTSTAMP:20260420T200947
CREATED:20250131T075810Z
LAST-MODIFIED:20250131T075810Z
UID:10498-1742724000-1742731200@naturschutzstation-hahneberg.de
SUMMARY:Frühling in der Vogelwelt am Hahneberg
DESCRIPTION:Die vogelkundliche Führung richtet sich an ornithologische Einsteiger und naturbegeisterte Erwachsene und Kinder ab zwölf Jahre. Einige Zugvögel sind bereits zurück und aus Büschen und Bäumen wird fleißig gesungen – wir halten Ohren und Augen offen. \nGerne könnt Ihr Euer eigenes Fernglas mitbringen\, Leihferngläser sind in begrenzter Zahl vorhanden. Um die Vögel möglichst gut beobachten zu können\, bitten wir Euch\, ohne Hunde zu erscheinen. \nLeitung: André Eden. \nDie Teilnehmerzahl ist begrenzt und wir bitten um eine Anmeldung über mail@naturschutzstation-hahneberg.de oder unter 030/263 007 87. \nDie Führung ist kostenlos\, über eine Spende freuen wir uns aber sehr. \n\nTreffpunkt: Naturschutzstation Hahneberg\, Heerstr. 549\, 13593 Berlin\, erreichbar mit öffentlichen Verkehrsmitteln (Bus M37\, X49\, M49; Haltestelle Hahneberg)
URL:https://naturschutzstation-hahneberg.de/event/fruehling-in-der-vogelwelt-am-hahneberg-2/
LOCATION:Naturschutzstation Hahneberg\, Heerstr. 549\, Berlin\, 13593\, Deutschland
CATEGORIES:Führung
ATTACH;FMTTYPE=image/jpeg:https://naturschutzstation-hahneberg.de/wp-content/uploads/2025/01/Blaumeise-Pixabay.jpg
ORGANIZER;CN="Naturschutzstation%20Hahneberg":MAILTO:mail@naturschutzstation-hahneberg.de
END:VEVENT
END:VCALENDAR