BEGIN:VCALENDAR
VERSION:2.0
PRODID:-//Naturschutzstation Hahneberg - ECPv5.7.0//NONSGML v1.0//EN
CALSCALE:GREGORIAN
METHOD:PUBLISH
X-WR-CALNAME:Naturschutzstation Hahneberg
X-ORIGINAL-URL:https://naturschutzstation-hahneberg.de
X-WR-CALDESC:Events for Naturschutzstation Hahneberg
BEGIN:VTIMEZONE
TZID:Europe/Berlin
BEGIN:DAYLIGHT
TZOFFSETFROM:+0100
TZOFFSETTO:+0200
TZNAME:CEST
DTSTART:20250330T010000
END:DAYLIGHT
BEGIN:STANDARD
TZOFFSETFROM:+0200
TZOFFSETTO:+0100
TZNAME:CET
DTSTART:20251026T010000
END:STANDARD
END:VTIMEZONE
BEGIN:VEVENT
DTSTART;TZID=Europe/Berlin:20250405T100000
DTEND;TZID=Europe/Berlin:20250405T160000
DTSTAMP:20260420T212318
CREATED:20250117T080944Z
LAST-MODIFIED:20250227T100128Z
UID:10454-1743847200-1743868800@naturschutzstation-hahneberg.de
SUMMARY:Gartentag an der Naturschutzstation
DESCRIPTION:Gemeinsamer Saison-Auftakt beim Garten-Einsatztag an der Naturschutzstation am Hahneberg.\nFreudig sehen wir derzeit den Frühblühern beim Wachsen zu und jeder Sonnenstrahl wärmt unsere Herzen. Und es juckt uns allen kräftig in den Fingern\, wieder in der Erde zu graben\, zu säen und zu pflanzen! Die Gartensaison beginnt so langsam und wir machen zum Saisonauftakt einen offenen Garten-Einsatztag daraus!\nAm Samstag\, den 5.04.2024 ab 10h ist jede*r herzlich eingeladen mit uns erste Spatenstiche zu machen\, die Regenwürmer zu begrüßen\, den Garten aus seinem Winterschlaf zu erwecken und kräftig mit anzupacken. Wir freuen uns dabei über jede helfende Hand\, auch wenn es nur für 1-2 Stunden ist. Neben dem Auffrischen unseres Gartens kommt auch Ihr nicht zu kurz\, denn bei der Pflanzen- und Saatgut- Tauschbörse könnt ihr Jungpflanzen\, Sämlinge und Saatgut mitbringen und gegen Neuheiten und Raritäten aus der Nachbarschaft tauschen. \nEs wird wieder ein buntes Programm angeboten: \nOrnithologe André Eden nimmt uns mit zu einer Führung zum Thema “Vogel- und insektenfreundliche Gartengestaltung” und  Luisa Wolf bieten wieder einen Upcycling Workshop an\, bei dem aus Tetrapacks und Konservendosen schöne Pflanzgefäße hergestellt werden können. Bringt hierfür gerne auch eigene leere Tetrapacks & Dosen mit! \nAuch für das leibliche Wohl ist bei Kaffee und Kuchen gesorgt und unsere Gartenexpertinnen geben sicherlich den einen oder anderen hilfreichen Tipp für das eigene Grün auf dem Balkon\, dem Innenhof oder in dem eigenen Garten. \nWir freuen uns auf eure Anmeldungen über mail@naturschutzstation-hahneberg.de oder unter 030/263 007 87! \nProgramm:\nPflanzen- und Saatguttauschbörse – offener Austausch von Jungpflanzen und Saatgut \n10-11h Upccycling Workshop mit Luisa Wolf \n11-12h Führung “Vogel- und insektenfreundliche Gartengestaltung” mit Ornithologe André Eden \n13:30-14:00h spannende Infos über das Tomatenparadeprojekt der Bürgerstiftung Berlin von Herrn Buchwald \n13-14h Upccycling Workshop mit Lucia Kühn \nGartentratsch bei Kaffee & Kuchen
URL:https://naturschutzstation-hahneberg.de/event/gartentag-an-der-naturschutzstation/
LOCATION:Naturschutzstation Hahneberg\, Heerstr. 549\, Berlin\, 13593\, Deutschland
CATEGORIES:Gärtnern,Treffen
ATTACH;FMTTYPE=image/jpeg:https://naturschutzstation-hahneberg.de/wp-content/uploads/2025/01/Fruehling.jpg
ORGANIZER;CN="Naturschutzstation%20Hahneberg":MAILTO:mail@naturschutzstation-hahneberg.de
END:VEVENT
BEGIN:VEVENT
DTSTART;TZID=Europe/Berlin:20250409T170000
DTEND;TZID=Europe/Berlin:20250409T183000
DTSTAMP:20260420T212318
CREATED:20250327T220209Z
LAST-MODIFIED:20250327T222226Z
UID:10644-1744218000-1744223400@naturschutzstation-hahneberg.de
SUMMARY:FEIERABENDGÄRTNERN AM HAHNEBERG -    FÜR INTERESSIERTE GARTENFREUND*INNEN
DESCRIPTION:FEIERABENDGÄRTNERN AM HAHNEBERG &#8211; \nFÜR INTERESSIERTE GARTENFREUND*INNEN \n  \nWie? Wo? Wer? \nWir laden Alle herzlich ein\, die Lust auf gemeinsames Gärtnern und Austausch haben &#8211; egal ob mit oder ohne Vorerfahrung. \nGemeinsam gärtnern wir im Garten unserer Naturschutzstation und lernen spannende Tipps & Tricks zu einem jahreszeitlich passenden Thema! \n \nWann? Was? \nErde\, Kompost\, Mulch und Co Mi.\, 9. April \nSäen\, Pflanzen\, Wasser sparen Mi.\, 14. Mai & Mi.\, 21. Mai \nKräuter\, Steine\, Sand und Co (Permakultur\, einfache Beete für Balkon und Garten) \nMi.\, 18. Juni & Mi.\, \n25\, Juni Summen\, Brummen und Bestäuben (Wildbienen\, Käfer und Kolleg*innen) \nMi.\, 16. Juli Wassersparendes Gärtnern (Einführung in den Bau von “Ollas”) \nMi.\, 23. Juli Ernten und Herbstpflanzung \nMi.\, 6. August & Mi.\, 13. August \nInteressiert ?  \nDann meldet Euch gerne an unter: \nemail: herwig@lpvspandau.onmicrosoft.com \n(Cordula Herwig) \nOder telefonisch unter: \nTel. 030/26300787  Mobil 0175/1178352 \n(falls ihr Euch weitere Informationen wünscht\, nennt uns gerne Eure Kontaktdaten\, Cordula meldet sich innerhalb der nächsten Tage) \n 
URL:https://naturschutzstation-hahneberg.de/event/feierabendgaertnern-am-hahneberg-fuer-interessierte-gartenfreundinnen/
LOCATION:Naturschutzstation Hahneberg\, Heerstr. 549\, Berlin\, 13593\, Deutschland
ATTACH;FMTTYPE=image/jpeg:https://naturschutzstation-hahneberg.de/wp-content/uploads/2025/03/20240723_161156-scaled.jpg
ORGANIZER;CN="Naturschutzstation%20Hahneberg":MAILTO:mail@naturschutzstation-hahneberg.de
END:VEVENT
BEGIN:VEVENT
DTSTART;TZID=Europe/Berlin:20250412T130000
DTEND;TZID=Europe/Berlin:20250412T160000
DTSTAMP:20260420T212318
CREATED:20250303T093008Z
LAST-MODIFIED:20250303T094056Z
UID:10579-1744462800-1744473600@naturschutzstation-hahneberg.de
SUMMARY:Brennnesselwerkstatt - Ein Erlebnis für die ganze Familie!
DESCRIPTION:Warum brennt die Brennnessel?\nAuf den Wiesen rund um den Hahneberg könnt ihr kleine Mutproben bestehen sowie ein „Wundermittel“ entdecken\, das gegen unangenehme Berührungen mit dem Kräutlein „Rühr mich nicht an“ hilft und ganz nebenbei einem Kräutermärchen über die „Gold“- Pflanze lauschen. Auch wollen wir mit Hilfe von Brennnesseln grüne Seife herstellen. \nEin Erlebnis für die ganze Familie! \nLeitung: Regina Höfele (Wildkräuterpädagogin) \nTreffpunkt: Naturschutzstation Hahneberg\, Heerstrasse 549\, 13593 Berlin. Gut erreichbar mit den Bussen M37\, X49\, M49. Die Haltestelle &#8220;Hahneberg&#8221; liegt fast direkt vor dem Eingang. \nDie Anmeldung erfolgt unter Angabe der Kursnummer Sp1.415-F über die Volkshochschule Spandau. \nTel.: 90279 5000 Fax.: 90279 5001 E-Mail: info@vhs-spandau.de\, http://www.vhs-spandau.de \nKosten: 7.60€\, ermäßigt 3\,80€
URL:https://naturschutzstation-hahneberg.de/event/brennnesselwerkstatt-ein-erlebnis-fuer-die-ganze-familie/
LOCATION:Naturschutzstation Hahneberg\, Heerstr. 549\, Berlin\, 13593\, Deutschland
CATEGORIES:Workshop
ATTACH;FMTTYPE=image/jpeg:https://naturschutzstation-hahneberg.de/wp-content/uploads/2025/01/Brennessel.jpg
END:VEVENT
BEGIN:VEVENT
DTSTART;TZID=Europe/Berlin:20250424T170000
DTEND;TZID=Europe/Berlin:20250424T190000
DTSTAMP:20260420T212318
CREATED:20250312T072350Z
LAST-MODIFIED:20250312T072351Z
UID:10595-1745514000-1745521200@naturschutzstation-hahneberg.de
SUMMARY:Ab ins B: Musikalischer Baumspaziergang
DESCRIPTION:An diesem Frühlingsabend wird ein zweistündiger naturpädagogisch-musikalischer Abendspaziergang zu den Bäumen rund um den Hahneberg angeboten. Unterwegs wird an einigen ausgesuchten Orten unter und neben Bäumen Halt gemacht\, um von Naturpädagogin Cordula Herwig so manch wissenswerte\, interessante und auch kuriose Information über die faszinierenden grünen Baumriesen zu erfahren. \nAußerdem wird die Möglichkeit geboten\, unter Anleitung der Sängerin Martha Pfaffeneder gemeinsam altbekannte und neue Lieder in der Gruppe &#8211; ein-\, zwei- oder auch dreistimmig &#8211; zu singen. Jede Stimme ist hierbei willkommen und die Erfahrung\, Teil eines wohlklingenden Spontanchores draußen in der Natur zu sein\, lohnt sich allemal! \nDie Veranstaltung kostet 5\,00 €. \nBitte meldet Euch an über mail@naturschutzstation-hahneberg.de oder unter 030 / 26300787.
URL:https://naturschutzstation-hahneberg.de/event/ab-ins-b-musikalischer-baumspaziergang/
LOCATION:Naturschutzstation Hahneberg\, Heerstr. 549\, Berlin\, 13593\, Deutschland
CATEGORIES:Spaziergang
ATTACH;FMTTYPE=image/jpeg:https://naturschutzstation-hahneberg.de/wp-content/uploads/2025/03/Ab-ins-B-scaled.jpg
ORGANIZER;CN="Naturschutzstation%20Hahneberg":MAILTO:mail@naturschutzstation-hahneberg.de
END:VEVENT
BEGIN:VEVENT
DTSTART;TZID=Europe/Berlin:20250425T153000
DTEND;TZID=Europe/Berlin:20250425T170000
DTSTAMP:20260420T212318
CREATED:20250408T063824Z
LAST-MODIFIED:20250408T063824Z
UID:10671-1745595000-1745600400@naturschutzstation-hahneberg.de
SUMMARY:Schäferführung am Hahneberg
DESCRIPTION:Wolltet Ihr immer schon einmal wissen\, wann die Schafe geschoren werden und was überhaupt mit der Wolle so passiert? Und gibt es in diesem Jahr vielleicht schon Lämmchen an der Naturschutzstation? \nErfahrt bei einer 90-minütigen Führung mit Schäfer Alexander Beer und seinen 2 Hütehunden viele spannende Details unter anderem über die alte Hautierrasse Rauhwolliges Pommersches Landschaf und den Einsatz von Schafen für die Landschaftspflege am Hahneberg. Die Teilnehmerzahl ist begrenzt. Eine Anmeldung ist erforderlich unter mail@naturschutzstation-hahneberg.de oder unter 030/263 007 87. \nDie Führung ist kostenlos\, über eine Spende freuen wir uns aber sehr! Wir bitten um wettertaugliche Kleidung und bequemes Schuhwerk.
URL:https://naturschutzstation-hahneberg.de/event/schaeferfuehrung-am-hahneberg-8/
LOCATION:Naturschutzstation Hahneberg\, Heerstr. 549\, Berlin\, 13593\, Deutschland
CATEGORIES:Führung
ATTACH;FMTTYPE=image/jpeg:https://naturschutzstation-hahneberg.de/wp-content/uploads/2022/09/Schafe_September22-scaled.jpg
ORGANIZER;CN="Naturschutzstation%20Hahneberg":MAILTO:mail@naturschutzstation-hahneberg.de
END:VEVENT
BEGIN:VEVENT
DTSTART;TZID=Europe/Berlin:20250426T100000
DTEND;TZID=Europe/Berlin:20250426T130000
DTSTAMP:20260420T212318
CREATED:20250117T082526Z
LAST-MODIFIED:20250117T082526Z
UID:10459-1745661600-1745672400@naturschutzstation-hahneberg.de
SUMMARY:Nature Journaling im Frühling: Achtsames Erleben in der Natur
DESCRIPTION:In diesem Workshop verbinden wir das Gestalten eines Naturtagebuchs mit ausgewählten naturpädagogischen Aktionen & Achtsamkeitsübungen. Begleite uns dabei und erlebe\, wie in uns eine tiefere Begeisterung zu unserer Natur wächst und wir Wunder entdecken\, an denen wir ansonsten vorbeigegangen wären.\nUm ein Naturtagebuch anzufertigen\, müssen wir keine guten Zeichner sein. Es geht nicht nur darum\, was auf den Seiten entsteht\, sondern vielmehr um die Sammlung von Erfahrungen\, um achtsames Beobachten und um das Eintauchen in die Natur. Also\, schnapp dir ein Notizbuch und deine Lieblingsstifte und komm vorbei! \nReferentinnen: Luisa Wolf & Lucia Kühn \nDie Anmeldung erfolgt unter Angabe der Kursnummer Sp1.414-F über die Volkshochschule Spandau. \nTel.: 90279 5000 Fax.: 90279 5001 E-Mail: info@vhs-spandau.de\, http://www.vhs-spandau.de \nKosten: 11\,20€\, ermäßigt: 5\,60€ \nTreff- und Endpunkt Naturschutzstation Hahneberg\, Heerstr. 549\,13593 Berlin. Bus (M37\, X49/M49)\, die Haltestelle Hahneberg liegt fast direkt vor der Tür.  \n \nhttps://www.vhsit.berlin.de/VHSKURSE/BusinessPages/CourseDetail.aspx?id=740239
URL:https://naturschutzstation-hahneberg.de/event/nature-journaling-im-fruehling-achtsames-erleben-in-der-natur/
LOCATION:Naturschutzstation Hahneberg\, Heerstr. 549\, Berlin\, 13593\, Deutschland
CATEGORIES:Workshop
ATTACH;FMTTYPE=image/jpeg:https://naturschutzstation-hahneberg.de/wp-content/uploads/2023/01/IMG_4908-2_2.jpg
END:VEVENT
BEGIN:VEVENT
DTSTART;TZID=Europe/Berlin:20250426T140000
DTEND;TZID=Europe/Berlin:20250426T160000
DTSTAMP:20260420T212318
CREATED:20250131T080358Z
LAST-MODIFIED:20250423T102011Z
UID:10501-1745676000-1745683200@naturschutzstation-hahneberg.de
SUMMARY:Wildkräuterführung am Hahneberg
DESCRIPTION:Die Führung ist leider ausgebucht! \nSchwerpunkt sind essbare Pflanzen und Heilpflanzen. Entdeckt in einer zweistündigen Wanderung durch die abwechslungsreiche Flora des Geländes rund um den Hahneberg botanische Raritäten und küchentaugliches Wildobst- oder gemüse. Gemeinsam mit unserer Kräuterexpertin Frau Susanna Komischke\, die ihr umfangreiches Wissen über Heilwirkungen\, Verwendung und Inhaltsstoffe mit Euch teilt\, wandert Ihr über den ehemaligen Grenzstreifen hinauf zum neuen Hahneberg. Dort werdet Ihr mit einem weiten Blick über die Stadt\, aber auch vielen neuen Erkenntnissen belohnt. \nKondition für eine 2-stündige Wanderung erforderlich. Wir bitten um wettertaugliche Kleidung und festes Schuhwerk. \nDie Teilnehmerzahl ist begrenzt und wir bitten um eine Anmeldung über mail@naturschutzstation-hahneberg.de oder unter 030/263 007 87. \nDie Führung ist kostenlos\, über eine Spende freuen wir uns aber sehr. \nTreffpunkt: Naturschutzstation Hahneberg\, Heerstr. 549\, 13593 Berlin\, erreichbar mit öffentlichen Verkehrsmitteln (Bus M37\, X49\, M49; Haltestelle Hahneberg)
URL:https://naturschutzstation-hahneberg.de/event/wildkraeuterfuehrung-am-hahneberg-17/
LOCATION:Naturschutzstation Hahneberg\, Heerstr. 549\, Berlin\, 13593\, Deutschland
CATEGORIES:Führung
ATTACH;FMTTYPE=image/jpeg:https://naturschutzstation-hahneberg.de/wp-content/uploads/2025/01/Gaensebluemchen.jpg
ORGANIZER;CN="Naturschutzstation%20Hahneberg":MAILTO:mail@naturschutzstation-hahneberg.de
END:VEVENT
END:VCALENDAR