BEGIN:VCALENDAR
VERSION:2.0
PRODID:-//Naturschutzstation Hahneberg - ECPv5.7.0//NONSGML v1.0//EN
CALSCALE:GREGORIAN
METHOD:PUBLISH
X-WR-CALNAME:Naturschutzstation Hahneberg
X-ORIGINAL-URL:https://naturschutzstation-hahneberg.de
X-WR-CALDESC:Events for Naturschutzstation Hahneberg
BEGIN:VTIMEZONE
TZID:Europe/Berlin
BEGIN:DAYLIGHT
TZOFFSETFROM:+0100
TZOFFSETTO:+0200
TZNAME:CEST
DTSTART:20250330T010000
END:DAYLIGHT
BEGIN:STANDARD
TZOFFSETFROM:+0200
TZOFFSETTO:+0100
TZNAME:CET
DTSTART:20251026T010000
END:STANDARD
END:VTIMEZONE
BEGIN:VEVENT
DTSTART;TZID=Europe/Berlin:20250704T163000
DTEND;TZID=Europe/Berlin:20250704T173000
DTSTAMP:20260423T131541
CREATED:20250221T111904Z
LAST-MODIFIED:20250221T111904Z
UID:10559-1751646600-1751650200@naturschutzstation-hahneberg.de
SUMMARY:Märchenwanderung am Hahneberg
DESCRIPTION:Wandert mit dem Märchenerzähler Steinkauz durch die verwunschene Landschaft des Hahnebergs und lasst euch für eine Stunde in die Welt der Fabelwesen entführen. Der Spaziergang endet an einem Märchenpfad\, der liebevoll von Kindern mit selbst gebauten Fabelwesen gestaltet wurde. Das Angebot richtet sich vor allem an Familien\, aber auch an neugierige Erwachsene. \nDie Teilnehmerzahl ist begrenzt. Anmeldung erforderlich unter mail@naturschutzstation-hahneberg.de oder unter 030/263 007 87. \nDie Führung ist kostenfrei\, über eine Spende freuen wir uns aber sehr! \nWir bitten um wettertaugliche Kleidung und festes\, bequemes Schuhwerk. \nWo: Treffpunkt an der Naturschutzstation Hahneberg\, Heerstraße 549 in 13593 Berlin.
URL:https://naturschutzstation-hahneberg.de/event/maerchenwanderung-am-hahneberg-25/
LOCATION:Naturschutzstation Hahneberg\, Heerstr. 549\, Berlin\, 13593\, Deutschland
CATEGORIES:Spaziergang
ATTACH;FMTTYPE=image/jpeg:https://naturschutzstation-hahneberg.de/wp-content/uploads/2024/01/Froschkoenig.jpg
ORGANIZER;CN="Naturschutzstation%20Hahneberg":MAILTO:mail@naturschutzstation-hahneberg.de
END:VEVENT
BEGIN:VEVENT
DTSTART;TZID=Europe/Berlin:20250715T173000
DTEND;TZID=Europe/Berlin:20250715T184500
DTSTAMP:20260423T131541
CREATED:20250312T083249Z
LAST-MODIFIED:20250602T071307Z
UID:10598-1752600600-1752605100@naturschutzstation-hahneberg.de
SUMMARY:Sommer-Yoga am Hahneberg
DESCRIPTION:Mit wohltuenden Bewegungs-\, Achtsamkeits- und meditativen Übungen lernen Sie im Kurs verschiedene Möglichkeiten kennen\, für mehr Beweglichkeit und Entspannung. Die Übungen dienen dem Ziel\, im Alltag Gelassenheit und Kraft schöpfen zu können um Vitalität und Wohlbefinden zu steigern. Aufmerksames Einnehmen verschiedener Körperstellungen\, gezielte Bewegungsabläufe und Atemübungen zeigen den Weg zu mehr Ausgeglichenheit und Harmonie. Energie und Konzentration werden gefördert\, Verspannungen können sich lösen.\n\n\n\nKursleiterin: Bettina Schwarz von Raum für Yoga und Meditation \n \nDie Anmeldung erfolgt unter Angabe der Kursnummer SP3.300a-S über die Volkshochschule Spandau. \nTel.: 90279 5000 Fax.: 90279 5001 E-Mail: info@vhs-spandau.de\, http://www.vhs-spandau.de \nVeranstaltungstermine: \n\n\n\n\nDi\, 15.07.2025\, 17:30 &#8211; 18:45\n\n\nDi\, 22.07.2025\, 17:30 &#8211; 18:45\n\n\nDi\, 29.07.2025\, 17:30 &#8211; 18:45\n\n\nDi\, 05.08.2025\, 17:30 &#8211; 18:45\n\n\nDi\, 12.08.2025\, 17:30 &#8211; 18:45\n\n\n\n\nKosten für alle 5 Veranstaltungen (nicht einzeln buchbar): 28.49 EUR\, erm.: 16.25 EUR \n \nTreffpunkt: Naturschutzstation Hahneberg\, Heerstr. 549\,13593 Berlin. Bus (M37\, X49/M49)\, die Haltestelle Hahneberg liegt fast direkt vor der Tür.  \nBitte bringe eine Yogamatte\, Decke oder Sitzkissen und bequeme Kleidung mit. \n \n\nhttps://www.vhsit.berlin.de/VHSKURSE/BusinessPages/CourseDetail.aspx?id=766978
URL:https://naturschutzstation-hahneberg.de/event/sommer-yoga-am-hahneberg-12/
LOCATION:Naturschutzstation Hahneberg\, Heerstr. 549\, Berlin\, 13593\, Deutschland
CATEGORIES:Kurs
ATTACH;FMTTYPE=image/jpeg:https://naturschutzstation-hahneberg.de/wp-content/uploads/2025/03/Natur.jpg
ORGANIZER;CN="Naturschutzstation%20Hahneberg":MAILTO:mail@naturschutzstation-hahneberg.de
END:VEVENT
BEGIN:VEVENT
DTSTART;TZID=Europe/Berlin:20250716T170000
DTEND;TZID=Europe/Berlin:20250716T183000
DTSTAMP:20260423T131541
CREATED:20250327T224153Z
LAST-MODIFIED:20250507T091014Z
UID:10662-1752685200-1752690600@naturschutzstation-hahneberg.de
SUMMARY:FEIERABENDGÄRTNERN AM HAHNEBERG -   FÜR INTERESSIERTE GARTENFREUND*INNEN
DESCRIPTION:Wie? Wo? Wer? \nWir laden Alle herzlich ein\, die Lust auf gemeinsames Gärtnern und Austausch haben &#8211; egal ob mit oder ohne Vorerfahrung. \nGemeinsam gärtnern wir im Garten unserer Naturschutzstation und lernen spannende Tipps & Tricks zu einem jahreszeitlich passenden Thema! \nWann? Was? \nMi.\, 16. Juli Wassersparendes Gärtnern (Einführung in den Bau von “Ollas”) \nMi.\, 23. Juli Ernten und Herbstpflanzung \nMi.\, 6. August & Mi.\, 13. August \nInteressiert ?  \nDann meldet Euch gerne an unter: \nemail: herwig@lpvspandau.onmicrosoft.com \n(Cordula Herwig) \nOder telefonisch unter: \nTel. 030/26300787  Mobil 0175/1178352 \n(falls ihr Euch weitere Informationen wünscht\, nennt uns gerne Eure Kontaktdaten\, Cordula meldet sich innerhalb der nächsten Tage)
URL:https://naturschutzstation-hahneberg.de/event/feierabendgaertnern-am-hahneberg-fuer-interessierte-gartenfreundinnen-6/
LOCATION:Naturschutzstation Hahneberg\, Heerstr. 549\, Berlin\, 13593\, Deutschland
ATTACH;FMTTYPE=image/jpeg:https://naturschutzstation-hahneberg.de/wp-content/uploads/2025/03/20240723_161156-scaled.jpg
ORGANIZER;CN="Naturschutzstation%20Hahneberg":MAILTO:mail@naturschutzstation-hahneberg.de
END:VEVENT
BEGIN:VEVENT
DTSTART;TZID=Europe/Berlin:20250719T100000
DTEND;TZID=Europe/Berlin:20250719T120000
DTSTAMP:20260423T131541
CREATED:20250131T085045Z
LAST-MODIFIED:20250131T085045Z
UID:10525-1752919200-1752926400@naturschutzstation-hahneberg.de
SUMMARY:Was summt\, brummt und zirpt denn da? -Insektenführung für Groß und Klein-
DESCRIPTION:Kommt mit uns in die Welt der Kleinen\, die doch so wichtig für uns und unsere Natur sind. Bei einer Exkursion über den Hahneberg erkunden wir gemeinsam mit unserem Entomologie-Experten Jens Esser alles was kriecht\, krabbelt und fliegt. Erfahrt dabei mehr über die Artenvielfalt und das geheime Leben von Käfer\, Wanze\, Schmetterling und Co. Gewappnet mit Kescher und Lupe werden wir sicher die ein oder anderen Sechsbeiner entdecken\, die uns sonst verborgen bleiben. \nDie Teilnehmerzahl ist begrenzt. Anmeldung ist erforderlich unter mail@naturschutzstation-hahneberg.de oder unter 030/263 007 87. \nDie Führung ist kostenlos\, über eine Spende freuen wir uns aber sehr!\nWir bitten um wettertaugliche Kleidung und bequemes Schuhwerk. \n \nTreffpunkt: Naturschutzstation Hahneberg\, Heerstr. 549\, 13593 Berlin\, erreichbar mit öffentlichen Verkehrsmitteln (Bus M37\, X49\, M49; Haltestelle Hahneberg)
URL:https://naturschutzstation-hahneberg.de/event/was-summt-brummt-und-zirpt-denn-da-insektenfuehrung-fuer-gross-und-klein-2/
LOCATION:Naturschutzstation Hahneberg\, Heerstr. 549\, Berlin\, 13593\, Deutschland
CATEGORIES:Führung
ATTACH;FMTTYPE=image/jpeg:https://naturschutzstation-hahneberg.de/wp-content/uploads/2025/01/Ruesselkaefer-Pixabay.jpg
ORGANIZER;CN="Naturschutzstation%20Hahneberg":MAILTO:mail@naturschutzstation-hahneberg.de
END:VEVENT
BEGIN:VEVENT
DTSTART;TZID=Europe/Berlin:20250719T160000
DTEND;TZID=Europe/Berlin:20250719T180000
DTSTAMP:20260423T131541
CREATED:20250131T090203Z
LAST-MODIFIED:20250602T094739Z
UID:10528-1752940800-1752948000@naturschutzstation-hahneberg.de
SUMMARY:Wildkräuterführung am Hahneberg
DESCRIPTION:Schwerpunkt sind essbare Pflanzen und Heilpflanzen. Entdeckt in einer zweistündigen Wanderung durch die abwechslungsreiche Flora des Geländes rund um den Hahneberg botanische Raritäten und küchentaugliches Wildobst- oder gemüse. Gemeinsam mit unserer Kräuterexpertin Frau Susanna Komischke\, die ihr umfangreiches Wissen über Heilwirkungen\, Verwendung und Inhaltsstoffe mit Euch teilt\, wandert Ihr über den ehemaligen Grenzstreifen hinauf zum neuen Hahneberg. Dort werdet Ihr mit einem weiten Blick über die Stadt\, aber auch vielen neuen Erkenntnissen belohnt. \nKondition für eine 2-stündige Wanderung erforderlich. Wir bitten um wettertaugliche Kleidung und festes Schuhwerk. \nDie Teilnehmerzahl ist begrenzt und wir bitten um eine Anmeldung über mail@naturschutzstation-hahneberg.de oder unter 030/263 007 87. \nDie Führung ist kostenlos\, über eine Spende freuen wir uns aber sehr. \nTreffpunkt: Naturschutzstation Hahneberg\, Heerstr. 549\, 13593 Berlin\, erreichbar mit öffentlichen Verkehrsmitteln (Bus M37\, X49\, M49; Haltestelle Hahneberg)
URL:https://naturschutzstation-hahneberg.de/event/wildkraeuterfuehrung-am-hahneberg-19/
LOCATION:Naturschutzstation Hahneberg\, Heerstr. 549\, Berlin\, 13593\, Deutschland
CATEGORIES:Führung
ATTACH;FMTTYPE=image/jpeg:https://naturschutzstation-hahneberg.de/wp-content/uploads/2025/01/Schafsgarbe.jpg
ORGANIZER;CN="Naturschutzstation%20Hahneberg":MAILTO:mail@naturschutzstation-hahneberg.de
END:VEVENT
BEGIN:VEVENT
DTSTART;TZID=Europe/Berlin:20250722T173000
DTEND;TZID=Europe/Berlin:20250722T184500
DTSTAMP:20260423T131541
CREATED:20250312T083352Z
LAST-MODIFIED:20250602T071333Z
UID:10601-1753205400-1753209900@naturschutzstation-hahneberg.de
SUMMARY:Sommer-Yoga am Hahneberg
DESCRIPTION:Mit wohltuenden Bewegungs-\, Achtsamkeits- und meditativen Übungen lernen Sie im Kurs verschiedene Möglichkeiten kennen\, für mehr Beweglichkeit und Entspannung. Die Übungen dienen dem Ziel\, im Alltag Gelassenheit und Kraft schöpfen zu können um Vitalität und Wohlbefinden zu steigern. Aufmerksames Einnehmen verschiedener Körperstellungen\, gezielte Bewegungsabläufe und Atemübungen zeigen den Weg zu mehr Ausgeglichenheit und Harmonie. Energie und Konzentration werden gefördert\, Verspannungen können sich lösen.\n\n\n\nKursleiterin: Bettina Schwarz von Raum für Yoga und Meditation \n \nDie Anmeldung erfolgt unter Angabe der Kursnummer SP3.300a-S über die Volkshochschule Spandau. \nTel.: 90279 5000 Fax.: 90279 5001 E-Mail: info@vhs-spandau.de\, http://www.vhs-spandau.de \nVeranstaltungstermine: \n\n\n\n\nDi\, 15.07.2025\, 17:30 &#8211; 18:45\n\n\nDi\, 22.07.2025\, 17:30 &#8211; 18:45\n\n\nDi\, 29.07.2025\, 17:30 &#8211; 18:45\n\n\nDi\, 05.08.2025\, 17:30 &#8211; 18:45\n\n\nDi\, 12.08.2025\, 17:30 &#8211; 18:45\n\n\n\n\nKosten für alle 5 Veranstaltungen (nicht einzeln buchbar): 28.49 EUR\, erm.: 16.25 EUR \n \nTreffpunkt: Naturschutzstation Hahneberg\, Heerstr. 549\,13593 Berlin. Bus (M37\, X49/M49)\, die Haltestelle Hahneberg liegt fast direkt vor der Tür.  \nBitte bringe eine Yogamatte\, Decke oder Sitzkissen und bequeme Kleidung mit. \n \n\nhttps://www.vhsit.berlin.de/VHSKURSE/BusinessPages/CourseDetail.aspx?id=766978
URL:https://naturschutzstation-hahneberg.de/event/sommer-yoga-am-hahneberg-13/
LOCATION:Naturschutzstation Hahneberg\, Heerstr. 549\, Berlin\, 13593\, Deutschland
CATEGORIES:Kurs
ATTACH;FMTTYPE=image/jpeg:https://naturschutzstation-hahneberg.de/wp-content/uploads/2025/03/Natur.jpg
ORGANIZER;CN="Naturschutzstation%20Hahneberg":MAILTO:mail@naturschutzstation-hahneberg.de
END:VEVENT
BEGIN:VEVENT
DTSTART;TZID=Europe/Berlin:20250723T170000
DTEND;TZID=Europe/Berlin:20250723T183000
DTSTAMP:20260423T131541
CREATED:20250327T224508Z
LAST-MODIFIED:20250507T091143Z
UID:10664-1753290000-1753295400@naturschutzstation-hahneberg.de
SUMMARY:FEIERABENDGÄRTNERN AM HAHNEBERG -   FÜR INTERESSIERTE GARTENFREUND*INNEN
DESCRIPTION:Wie? Wo? Wer? \nWir laden Alle herzlich ein\, die Lust auf gemeinsames Gärtnern und Austausch haben &#8211; egal ob mit oder ohne Vorerfahrung. \nGemeinsam gärtnern wir im Garten unserer Naturschutzstation und lernen spannende Tipps & Tricks zu einem jahreszeitlich passenden Thema! \nWann? Was? \nMi.\, 23. Juli Ernten und Herbstpflanzung \nMi.\, 6. August & Mi.\, 13. August \n \nInteressiert ?  \nDann meldet Euch gerne an unter: \nemail: herwig@lpvspandau.onmicrosoft.com \n(Cordula Herwig) \nOder telefonisch unter: \nTel. 030/26300787  Mobil 0175/1178352 \n(falls ihr Euch weitere Informationen wünscht\, nennt uns gerne Eure Kontaktdaten\, Cordula meldet sich innerhalb der nächsten Tage)
URL:https://naturschutzstation-hahneberg.de/event/feierabendgaertnern-am-hahneberg-fuer-interessierte-gartenfreundinnen-7/
ATTACH;FMTTYPE=image/jpeg:https://naturschutzstation-hahneberg.de/wp-content/uploads/2025/03/20240723_161156-scaled.jpg
END:VEVENT
BEGIN:VEVENT
DTSTART;TZID=Europe/Berlin:20250725T153000
DTEND;TZID=Europe/Berlin:20250725T170000
DTSTAMP:20260423T131541
CREATED:20250602T093707Z
LAST-MODIFIED:20250602T093707Z
UID:10777-1753457400-1753462800@naturschutzstation-hahneberg.de
SUMMARY:Schäferführung am Hahneberg
DESCRIPTION:Was macht die Schafe am Hahneberg so unverzichtbar? \nIst es ihre tolle Wolle\, oder vielleicht ihre Eigenschaft vorn zu mähen und hinten zu düngen? Oder sehen sie einfach so niedlich aus? \nSeid dabei und findet heraus\, was unsere wolligen Nachbarn am Hahnegerg so besonders macht&#8230; \nSchäfer Alex Beer hat viele Infos für uns und dazu noch die eine oder andere lustige Geschichte aus dem Leben der Schafe! \n \nDie Veranstaltung ist kostenfrei\, über eine Spende freuen wir uns aber sehr! \nWir bitten um eine Anmeldung unter mail@naturschutzstation-hahneberg.de oder 030 / 26 300 787 \n \n \n
URL:https://naturschutzstation-hahneberg.de/event/schaeferfuehrung-am-hahneberg-10/
LOCATION:Naturschutzstation Hahneberg\, Heerstr. 549\, Berlin\, 13593\, Deutschland
CATEGORIES:Führung
ATTACH;FMTTYPE=image/jpeg:https://naturschutzstation-hahneberg.de/wp-content/uploads/2024/07/IMG_3361-2-scaled.jpg
ORGANIZER;CN="Naturschutzstation%20Hahneberg":MAILTO:mail@naturschutzstation-hahneberg.de
END:VEVENT
BEGIN:VEVENT
DTSTART;TZID=Europe/Berlin:20250726T183000
DTEND;TZID=Europe/Berlin:20250726T200000
DTSTAMP:20260423T131541
CREATED:20250602T092906Z
LAST-MODIFIED:20250715T115407Z
UID:10774-1753554600-1753560000@naturschutzstation-hahneberg.de
SUMMARY:Outdoor-Konzert im Schafstall
DESCRIPTION:Seit zehn Jahren ist die Naturschutzstation Hahneberg ein Ort für Natur\, Begegnung und Bildung. Erleben Sie daher auch in diesem Jubiläumsjahr der Naturschutzstation wieder unsere Konzertreihe: drei besondere Nachmittage und Abende mit Live-Musik\, Naturidylle und gemeinsamem Zuhören.  \nDas ist die perfekte Chance\, einen Sommertag inmitten der Schönheit der Natur und bei schöner Musik zu verbringen. Kinder sind herzlich willkommen. Wir laden euch ein\, eure eigenen Snacks und Getränke während des Konzerts zu genießen.\nWir freuen uns auf musikalische Abende mit euch am Hahneberg.\nDiese Mal erwarten uns Amerikanische Kompositionen mit klassischen Gitarrenklänge\, die sich an bekannten Kompositionen aus Nord- und Südamerika orientieren. \nEs spielt das Gitarrenduo Lopez/Woodcock \nDas Programm „Amerikanische Kompositionen“ beleuchtet die Vielseitigkeit der klassischen Gitarre durch eine Auswahl bedeutender Werke amerikanischer Musik. Von George Gershwins jazzig-klassischen „Three Preludes“ über die leidenschaftlichen Tangos von Astor Piazzolla bis hin zu den brasilianischen Suiten von Radamés Gnattali und den hypnotischen\, minimalistischen Klängen von Steve Reich\, zeigt das Programm die reiche kulturelle Vielfalt und die musikalische Tiefe Amerikas. Der Titel verweist sowohl auf die Herkunft dieser Werke als auch auf den kreativen Schaffensprozess\, der die komplexen kulturellen Einflüsse Amerikas in Musik übersetzt. \nMehr Infos auch unter https://www.groupmuse.com/events/14264-outdoor-konzert-in-der-naturschutzstation-hahneberg. \nKosten: Eine empfohlene Spende von 15€ wird gesammelt\, die direkt an die Musiker*innen geht\, aber alle sind trotzdem solidarisch eingeladen. \nEigene Getränke & Snacks dürfen mitgebracht werden! (Es gibt keine Verpflegung vor Ort) \nVeranstaltungsort: Schafstall an der Naturschutzstation Hahneberg\, Heerstraße 549\,13593 Berlin
URL:https://naturschutzstation-hahneberg.de/event/outdoor-konzert-im-schafstall-8/
LOCATION:Naturschutzstation Hahneberg\, Heerstr. 549\, Berlin\, 13593\, Deutschland
CATEGORIES:Sonstiges
ATTACH;FMTTYPE=image/jpeg:https://naturschutzstation-hahneberg.de/wp-content/uploads/2025/06/Gitarre.jpg
ORGANIZER;CN="Naturschutzstation%20Hahneberg":MAILTO:mail@naturschutzstation-hahneberg.de
END:VEVENT
BEGIN:VEVENT
DTSTART;TZID=Europe/Berlin:20250727T140000
DTEND;TZID=Europe/Berlin:20250727T170000
DTSTAMP:20260423T131541
CREATED:20250514T072140Z
LAST-MODIFIED:20250603T120922Z
UID:10735-1753624800-1753635600@naturschutzstation-hahneberg.de
SUMMARY:Wildkräuter zum Naschen
DESCRIPTION:Kräuterrezepte togo &#8211; für die ganze Familie\nIm Sommer durch die Wiese und durch den Garten streifen und dabei entdecken wir eine Vielfalt an Kräutern. Womit werden Zähne wieder weiß\, welches Kraut heilt kleine Wunden\, was schmeckt süß wie Lakritz?\nWarum brennt die Brennnessel? Für die eigene Wiesenküche sammeln und verarbeiten wir Wildkräuter und erfahren\, wie sie sich in schmackhafte Snacks wie grüne Katzenzungen\, Brennnesselcrossies oder Kräuterlimo verarbeitenlassen.\nMit Kräuterrezepten togo. \n \nLeitung: Regina Höfele (Wildkräuterpädagogin) \nDie Anmeldung erfolgt unter Angabe der Kursnummer Sp1.414-S über die Volkshochschule Spandau. \nTel.: 90279 5000 Fax.: 90279 5001 E-Mail: info@vhs-spandau.de\, http://www.vhs-spandau.de \nKosten:7\,60€\, erm.: 3\,80€ \nMaterialkosten: 3€ \n \nTreffpunkt: Naturschutzstation Hahneberg\, Heerstr. 549\,13593 Berlin. Bus (M37\, X49/M49)\, die Haltestelle Hahneberg liegt fast direkt vor der Tür. \nhttps://www.vhsit.berlin.de/VHSKURSE/BusinessPages/CourseDetail.aspx?id=740252 \n
URL:https://naturschutzstation-hahneberg.de/event/wildkraeuter-zum-naschen/
LOCATION:Naturschutzstation Hahneberg\, Heerstr. 549\, Berlin\, 13593\, Deutschland
CATEGORIES:Führung
ATTACH;FMTTYPE=image/jpeg:https://naturschutzstation-hahneberg.de/wp-content/uploads/2025/01/Brennessel.jpg
END:VEVENT
BEGIN:VEVENT
DTSTART;TZID=Europe/Berlin:20250729T173000
DTEND;TZID=Europe/Berlin:20250729T184500
DTSTAMP:20260423T131541
CREATED:20250312T083457Z
LAST-MODIFIED:20250602T071355Z
UID:10603-1753810200-1753814700@naturschutzstation-hahneberg.de
SUMMARY:Sommer-Yoga am Hahneberg
DESCRIPTION:Mit wohltuenden Bewegungs-\, Achtsamkeits- und meditativen Übungen lernen Sie im Kurs verschiedene Möglichkeiten kennen\, für mehr Beweglichkeit und Entspannung. Die Übungen dienen dem Ziel\, im Alltag Gelassenheit und Kraft schöpfen zu können um Vitalität und Wohlbefinden zu steigern. Aufmerksames Einnehmen verschiedener Körperstellungen\, gezielte Bewegungsabläufe und Atemübungen zeigen den Weg zu mehr Ausgeglichenheit und Harmonie. Energie und Konzentration werden gefördert\, Verspannungen können sich lösen.\n\n\n\nKursleiterin: Bettina Schwarz von Raum für Yoga und Meditation \n \nDie Anmeldung erfolgt unter Angabe der Kursnummer SP3.300a-S über die Volkshochschule Spandau. \nTel.: 90279 5000 Fax.: 90279 5001 E-Mail: info@vhs-spandau.de\, http://www.vhs-spandau.de \nVeranstaltungstermine: \n\n\n\n\nDi\, 15.07.2025\, 17:30 &#8211; 18:45\n\n\nDi\, 22.07.2025\, 17:30 &#8211; 18:45\n\n\nDi\, 29.07.2025\, 17:30 &#8211; 18:45\n\n\nDi\, 05.08.2025\, 17:30 &#8211; 18:45\n\n\nDi\, 12.08.2025\, 17:30 &#8211; 18:45\n\n\n\n\nKosten für alle 5 Veranstaltungen (nicht einzeln buchbar): 28.49 EUR\, erm.: 16.25 EUR \n \nTreffpunkt: Naturschutzstation Hahneberg\, Heerstr. 549\,13593 Berlin. Bus (M37\, X49/M49)\, die Haltestelle Hahneberg liegt fast direkt vor der Tür.  \nBitte bringe eine Yogamatte\, Decke oder Sitzkissen und bequeme Kleidung mit. \n \n\nhttps://www.vhsit.berlin.de/VHSKURSE/BusinessPages/CourseDetail.aspx?id=766978
URL:https://naturschutzstation-hahneberg.de/event/sommer-yoga-am-hahneberg-14/
LOCATION:Naturschutzstation Hahneberg\, Heerstr. 549\, Berlin\, 13593\, Deutschland
CATEGORIES:Kurs
ATTACH;FMTTYPE=image/jpeg:https://naturschutzstation-hahneberg.de/wp-content/uploads/2025/03/Natur.jpg
ORGANIZER;CN="Naturschutzstation%20Hahneberg":MAILTO:mail@naturschutzstation-hahneberg.de
END:VEVENT
END:VCALENDAR