BEGIN:VCALENDAR
VERSION:2.0
PRODID:-//Naturschutzstation Hahneberg - ECPv5.7.0//NONSGML v1.0//EN
CALSCALE:GREGORIAN
METHOD:PUBLISH
X-WR-CALNAME:Naturschutzstation Hahneberg
X-ORIGINAL-URL:https://naturschutzstation-hahneberg.de
X-WR-CALDESC:Events for Naturschutzstation Hahneberg
BEGIN:VTIMEZONE
TZID:Europe/Berlin
BEGIN:DAYLIGHT
TZOFFSETFROM:+0100
TZOFFSETTO:+0200
TZNAME:CEST
DTSTART:20250330T010000
END:DAYLIGHT
BEGIN:STANDARD
TZOFFSETFROM:+0200
TZOFFSETTO:+0100
TZNAME:CET
DTSTART:20251026T010000
END:STANDARD
END:VTIMEZONE
BEGIN:VEVENT
DTSTART;TZID=Europe/Berlin:20251102T110000
DTEND;TZID=Europe/Berlin:20251102T140000
DTSTAMP:20260422T015055
CREATED:20251010T105656Z
LAST-MODIFIED:20251010T105656Z
UID:10970-1762081200-1762092000@naturschutzstation-hahneberg.de
SUMMARY:Vom Harz der Bäume - Die Heilkraft der Bäume
DESCRIPTION:Auf einem Streifzug durch die Landschaft rund um den Hahneberg erfahren wir so Manches über die (Heil-)Kraft der immergrünen Bäume\, die hier zu Hause sind. Insbesondere die Kiefer &#8211; in früheren Zeiten auch als Lichtbringerin bekannt- kann dabei helfen\, uns in der kalten Jahreszeit etwas „Pflanzenpower“ zu schenken &#8211; und zwar in Form von Wärme. Diese können wir an kalten Wintertagen wohltuend am eigenen Körper spüren mittels einer selbst gerührten Salbe aus Kiefernharz. Die „Pechsalbe“ kann bei vielerlei Beschwerden eingesetzt werden ob bei kleinen Wunden als Zugsalbe oder Erkältungsbalsam. \nBitte ein kleines Schraubglas mitbringen und warm anziehen! \nKursnummer: Sp1.412-H \nVolkshochschule: Spandau \nKursleiterin: Regina Höfele \nKosten: 12 € ( ermäßigt: 6 € )\, zusätzlich Materialgeld von 4 €  (bitte direkt vor Ort an die Kursleiterin entrichten) \nAnmeldung: Tel: 90279 5000 E-Mail: info@vhs-spandau.de
URL:https://naturschutzstation-hahneberg.de/event/vom-harz-der-baeume-die-heilkraft-der-baeume/
LOCATION:Naturschutzstation Hahneberg\, Heerstr. 549\, Berlin\, 13593\, Deutschland
CATEGORIES:Kurs
ATTACH;FMTTYPE=image/jpeg:https://naturschutzstation-hahneberg.de/wp-content/uploads/2025/10/38274_manseok_Kim.jpg
END:VEVENT
BEGIN:VEVENT
DTSTART;TZID=Europe/Berlin:20251109T110000
DTEND;TZID=Europe/Berlin:20251109T153000
DTSTAMP:20260422T015055
CREATED:20251009T164744Z
LAST-MODIFIED:20251031T231919Z
UID:10962-1762686000-1762702200@naturschutzstation-hahneberg.de
SUMMARY:Herbstliche Wurzelgräberei und Krautstockküche
DESCRIPTION:„Back to  the roots“ ist das Motto dieses spätherbstlichen Kurses\, stecken viele Pflanzenwurzeln gerade im Frühjahr und Herbst doch voller Nährstoffe\, die uns sowohl innerlich als auch äußerlich gut tun können. \nDie Rede ist hier allerdings nicht von klassischem Wurzelgemüse aus dem Gartenbeet\, sondern von den wilden Vertreter*innen\, die wir rund um die Naturschutzstation zum Glück recht häufig finden. \nAls da z.B. wären: wilde Möhre\, Wegwarte\, Nachtkerze- oder die klassischen „Unkräuter“ Löwenzahn und Brennessel. \nNach dem Kennenlernen und Graben wird´s dann noch interessanter\, wenn wir die vielfältigen Wurzelgebilde zu etwas Schmackhaftem verarbeiten\, wie z.B. zu geröstetem Wurzelkaffee oder einer kräftigen „Wildwurzelpfanne“ \nWer also mehr über diese besonderen herbstlichen Köstlichkeiten und ihre Verwendung in der Küche erfahren möchte\, ist hier bei Hannelore Bayer &#8211; Rutzel (Heilpraktikerin und Phytotherapeutin) und Cordula Herwig (Natur- und Wildkräuterpädagogin) herzlich willkommen ! \nKursnummer für die Anmeldung: Sp1.413-H VHS Spandau \nTeilnehmeranzahl: 8 bis max. 15 Teiln.
URL:https://naturschutzstation-hahneberg.de/event/herbstliche-wurzelgraeberei-und-krautstockkueche/
LOCATION:Naturschutzstation Hahneberg\, Heerstr. 549\, Berlin\, 13593\, Deutschland
ATTACH;FMTTYPE=image/jpeg:https://naturschutzstation-hahneberg.de/wp-content/uploads/2025/10/leontodon-taraxacuma-illustration-aus-der-medizinischen-botanik-1836-scaled.jpg
END:VEVENT
BEGIN:VEVENT
DTSTART;TZID=Europe/Berlin:20251113T153000
DTEND;TZID=Europe/Berlin:20251113T170000
DTSTAMP:20260422T015055
CREATED:20250822T110037Z
LAST-MODIFIED:20251009T170522Z
UID:10893-1763047800-1763053200@naturschutzstation-hahneberg.de
SUMMARY:FEIERABENDGÄRTNERN am Hahneberg/ Heute: Natürliche Abfallentsorgung im Garten: Mulchen und Kompostieren
DESCRIPTION:Gemeinsam gärtnern wir im Garten der Naturschutzstation\, tauschen uns dabei aus und erfahren dabei Tipps und Tricks zu einem jahreszeitlich passenden Thema. Pflanzen- und Samentausch inclusive ! Wer also Lust auf einen entspannten Abend in netter Runde hat &#8211; egal ob mit oder ohne Vorerfahrung\, ist herzlich eingeladen vorbeizukommen. Das Angebot ist kostenfrei. \nAnmeldung unter: \nherwig@lpvspandau.onmicrosoft.com (wenn möglich &#8211; ansonsten auch gerne spontan vorbeikommen !) \nBei Fragen zum Angebot: \nTel. o30/26300787 oder mobil 0175/1178352 (Büro Naturschutzstation) \nWir bemühen uns\, zeitnah zurückzurufen\, aber haben Sie bitte Verständnis\, wenn es ggf. ein paar Tage dauert&#8230;
URL:https://naturschutzstation-hahneberg.de/event/feierabendgaertnern-am-hahneberg-heute-knollen-zwiebeln-und-samen-bunte-fruehjahrspflanzung-2/
LOCATION:Naturschutzstation Hahneberg\, Heerstr. 549\, Berlin\, 13593\, Deutschland
ATTACH;FMTTYPE=image/jpeg:https://naturschutzstation-hahneberg.de/wp-content/uploads/2025/08/Kompost-Gemueseresste-Bild.jpg
ORGANIZER;CN="Naturschutzstation%20Hahneberg":MAILTO:mail@naturschutzstation-hahneberg.de
END:VEVENT
BEGIN:VEVENT
DTSTART;TZID=Europe/Berlin:20251127T153000
DTEND;TZID=Europe/Berlin:20251127T170000
DTSTAMP:20260422T015055
CREATED:20250921T093348Z
LAST-MODIFIED:20251009T170447Z
UID:10926-1764257400-1764262800@naturschutzstation-hahneberg.de
SUMMARY:FEIERABENDGÄRTNERN am Hahneberg/ Heute: Natürliche Abfallentsorgung im Garten: Mulchen und Kompostieren
DESCRIPTION:Gemeinsam gärtnern wir im Garten der Naturschutzstation\, tauschen uns dabei aus und erfahren dabei Tipps und Tricks zu einem jahreszeitlich passenden Thema. Pflanzen- und Samentausch inclusive ! Wer also Lust auf einen entspannten Abend in netter Runde hat &#8211; egal ob mit oder ohne Vorerfahrung\, ist herzlich eingeladen vorbeizukommen. Das Angebot ist kostenfrei. \nAnmeldung unter: \nherwig@lpvspandau.onmicrosoft.com (wenn möglich &#8211; ansonsten auch gerne spontan vorbeikommen !) \nBei Fragen zum Angebot: \nTel. o30/26300787 oder mobil 0175/1178352 (Büro Naturschutzstation) \nWir bemühen uns\, zeitnah zurückzurufen\, aber haben Sie bitte Verständnis\, wenn es ggf. ein paar Tage dauert&#8230;
URL:https://naturschutzstation-hahneberg.de/event/feierabendgaertnern-am-hahneberg-heute-knollen-zwiebeln-und-samen-bunte-fruehjahrspflanzung/
LOCATION:Naturschutzstation Hahneberg\, Heerstr. 549\, Berlin\, 13593\, Deutschland
CATEGORIES:Gärtnern
ATTACH;FMTTYPE=image/jpeg:https://naturschutzstation-hahneberg.de/wp-content/uploads/2025/08/Kompost-Gemueseresste-Bild.jpg
ORGANIZER;CN="Naturschutzstation%20Hahneberg":MAILTO:mail@naturschutzstation-hahneberg.de
END:VEVENT
END:VCALENDAR